| Back to Multiple platform build/check report for BioC 3.9 |
|
This page was generated on 2019-04-09 12:18:20 -0400 (Tue, 09 Apr 2019).
| Package 88/1703 | Hostname | OS / Arch | INSTALL | BUILD | CHECK | BUILD BIN | ||||||
| ASSIGN 1.19.1 Ying Shen
| malbec2 | Linux (Ubuntu 18.04.2 LTS) / x86_64 | OK | OK | OK | |||||||
| tokay2 | Windows Server 2012 R2 Standard / x64 | OK | OK | OK | [ OK ] | |||||||
| celaya2 | OS X 10.11.6 El Capitan / x86_64 | OK | OK | OK | OK | |||||||
| merida2 | OS X 10.11.6 El Capitan / x86_64 | OK | OK | OK | OK |
| Package: ASSIGN |
| Version: 1.19.1 |
| Command: rm -rf ASSIGN.buildbin-libdir && mkdir ASSIGN.buildbin-libdir && C:\Users\biocbuild\bbs-3.9-bioc\R\bin\R.exe CMD INSTALL --merge-multiarch --build --library=ASSIGN.buildbin-libdir ASSIGN_1.19.1.tar.gz |
| StartedAt: 2019-04-09 07:27:08 -0400 (Tue, 09 Apr 2019) |
| EndedAt: 2019-04-09 07:27:38 -0400 (Tue, 09 Apr 2019) |
| EllapsedTime: 29.8 seconds |
| RetCode: 0 |
| Status: OK |
| PackageFile: ASSIGN_1.19.1.zip |
| PackageFileSize: 1.689 MiB |
##############################################################################
##############################################################################
###
### Running command:
###
### rm -rf ASSIGN.buildbin-libdir && mkdir ASSIGN.buildbin-libdir && C:\Users\biocbuild\bbs-3.9-bioc\R\bin\R.exe CMD INSTALL --merge-multiarch --build --library=ASSIGN.buildbin-libdir ASSIGN_1.19.1.tar.gz
###
##############################################################################
##############################################################################
install for i386
* installing *source* package 'ASSIGN' ...
** R
** data
*** moving datasets to lazyload DB
** inst
** byte-compile and prepare package for lazy loading
** help
*** installing help indices
converting help for package 'ASSIGN'
finding HTML links ... done
ComBat.step2 html
assign.convergence html
assign.cv.output html
assign.mcmc html
assign.output html
assign.preprocess html
assign.summary html
assign.wrapper html
excludegenes html
gather_assign_results html
geneList1 html
gfrn_geneList html
merge_drop html
optimizeGFRN html
pcaplot html
runassignGFRN html
testData1 html
trainingData1 html
** building package indices
** installing vignettes
** testing if installed package can be loaded from temporary location
** testing if installed package can be loaded from final location
** testing if installed package keeps a record of temporary installation path
install for x64
* installing *source* package 'ASSIGN' ...
** testing if installed package can be loaded
* MD5 sums
packaged installation of 'ASSIGN' as ASSIGN_1.19.1.zip
* DONE (ASSIGN)