| Back to Multiple platform build/check report for BioC 3.9 | 
 | 
This page was generated on 2019-04-09 12:21:34 -0400 (Tue, 09 Apr 2019).
| Package 83/1703 | Hostname | OS / Arch | INSTALL | BUILD | CHECK | BUILD BIN | ||||||
| ASGSCA 1.17.0 Hela Romdhani 
 | malbec2 | Linux (Ubuntu 18.04.2 LTS) / x86_64 | OK | OK | OK |  | ||||||
| tokay2 | Windows Server 2012 R2 Standard / x64 | OK | OK | OK | [ OK ] |  | ||||||
| celaya2 | OS X 10.11.6 El Capitan / x86_64 | OK | OK | OK | OK |  | ||||||
| merida2 | OS X 10.11.6 El Capitan / x86_64 | OK | OK | OK | OK | 
| Package: ASGSCA | 
| Version: 1.17.0 | 
| Command: rm -rf ASGSCA.buildbin-libdir && mkdir ASGSCA.buildbin-libdir && C:\Users\biocbuild\bbs-3.9-bioc\R\bin\R.exe CMD INSTALL --merge-multiarch --build --library=ASGSCA.buildbin-libdir ASGSCA_1.17.0.tar.gz | 
| StartedAt: 2019-04-09 07:26:49 -0400 (Tue, 09 Apr 2019) | 
| EndedAt: 2019-04-09 07:27:12 -0400 (Tue, 09 Apr 2019) | 
| EllapsedTime: 22.4 seconds | 
| RetCode: 0 | 
| Status: OK | 
| PackageFile: ASGSCA_1.17.0.zip | 
| PackageFileSize: 813.3 KiB | 
##############################################################################
##############################################################################
###
### Running command:
###
###   rm -rf ASGSCA.buildbin-libdir && mkdir ASGSCA.buildbin-libdir && C:\Users\biocbuild\bbs-3.9-bioc\R\bin\R.exe CMD INSTALL --merge-multiarch --build --library=ASGSCA.buildbin-libdir ASGSCA_1.17.0.tar.gz
###
##############################################################################
##############################################################################
install for i386
* installing *source* package 'ASGSCA' ...
** R
** data
** inst
** byte-compile and prepare package for lazy loading
** help
*** installing help indices
  converting help for package 'ASGSCA'
    finding HTML links ... done
    ASGSCA-package                          html  
    B0                                      html  
    GSCA                                    html  
    GSCAestim                               html  
    GenPhen                                 html  
    QCAHS                                   html  
    ResQCAHS                                html  
    W0                                      html  
** building package indices
** installing vignettes
** testing if installed package can be loaded from temporary location
** testing if installed package can be loaded from final location
** testing if installed package keeps a record of temporary installation path
install for x64
* installing *source* package 'ASGSCA' ...
** testing if installed package can be loaded
* MD5 sums
packaged installation of 'ASGSCA' as ASGSCA_1.17.0.zip
* DONE (ASGSCA)