| Back to Multiple platform build/check report for BioC 3.9 |
|
This page was generated on 2019-04-09 12:01:49 -0400 (Tue, 09 Apr 2019).
| Package 79/1703 | Hostname | OS / Arch | INSTALL | BUILD | CHECK | BUILD BIN | ||||||
| ARRmNormalization 1.23.0 Jean-Philippe Fortin
| malbec2 | Linux (Ubuntu 18.04.2 LTS) / x86_64 | OK | OK | OK | |||||||
| tokay2 | Windows Server 2012 R2 Standard / x64 | [ OK ] | OK | OK | OK | |||||||
| celaya2 | OS X 10.11.6 El Capitan / x86_64 | OK | OK | OK | OK | |||||||
| merida2 | OS X 10.11.6 El Capitan / x86_64 | OK | OK | OK | OK |
| Package: ARRmNormalization |
| Version: 1.23.0 |
| Command: C:\cygwin\bin\curl.exe -O https://malbec2.bioconductor.org/BBS/3.9/bioc/src/contrib/ARRmNormalization_1.23.0.tar.gz && rm -rf ARRmNormalization.buildbin-libdir && mkdir ARRmNormalization.buildbin-libdir && C:\Users\biocbuild\bbs-3.9-bioc\R\bin\R.exe CMD INSTALL --merge-multiarch --build --library=ARRmNormalization.buildbin-libdir ARRmNormalization_1.23.0.tar.gz && C:\Users\biocbuild\bbs-3.9-bioc\R\bin\R.exe CMD INSTALL ARRmNormalization_1.23.0.zip && rm ARRmNormalization_1.23.0.tar.gz ARRmNormalization_1.23.0.zip |
| StartedAt: 2019-04-08 18:24:47 -0400 (Mon, 08 Apr 2019) |
| EndedAt: 2019-04-08 18:25:30 -0400 (Mon, 08 Apr 2019) |
| EllapsedTime: 43.2 seconds |
| RetCode: 0 |
| Status: OK |
##############################################################################
##############################################################################
###
### Running command:
###
### C:\cygwin\bin\curl.exe -O https://malbec2.bioconductor.org/BBS/3.9/bioc/src/contrib/ARRmNormalization_1.23.0.tar.gz && rm -rf ARRmNormalization.buildbin-libdir && mkdir ARRmNormalization.buildbin-libdir && C:\Users\biocbuild\bbs-3.9-bioc\R\bin\R.exe CMD INSTALL --merge-multiarch --build --library=ARRmNormalization.buildbin-libdir ARRmNormalization_1.23.0.tar.gz && C:\Users\biocbuild\bbs-3.9-bioc\R\bin\R.exe CMD INSTALL ARRmNormalization_1.23.0.zip && rm ARRmNormalization_1.23.0.tar.gz ARRmNormalization_1.23.0.zip
###
##############################################################################
##############################################################################
% Total % Received % Xferd Average Speed Time Time Time Current
Dload Upload Total Spent Left Speed
0 0 0 0 0 0 0 0 --:--:-- --:--:-- --:--:-- 0
100 823k 100 823k 0 0 9.9M 0 --:--:-- --:--:-- --:--:-- 10.8M
install for i386
* installing *source* package 'ARRmNormalization' ...
** R
** data
** byte-compile and prepare package for lazy loading
** help
*** installing help indices
converting help for package 'ARRmNormalization'
finding HTML links ... done
ARRmNormalization-internal html
ARRmNormalization-package html
ProbesType html
getBackground html
getCoefficients html
getDesignInfo html
getQuantiles html
normalizeARRm html
positionPlots html
quantilePlots html
** building package indices
** installing vignettes
** testing if installed package can be loaded from temporary location
** testing if installed package can be loaded from final location
** testing if installed package keeps a record of temporary installation path
install for x64
* installing *source* package 'ARRmNormalization' ...
** testing if installed package can be loaded
* MD5 sums
packaged installation of 'ARRmNormalization' as ARRmNormalization_1.23.0.zip
* DONE (ARRmNormalization)
* installing to library 'C:/Users/biocbuild/bbs-3.9-bioc/R/library'
package 'ARRmNormalization' successfully unpacked and MD5 sums checked