| Back to Multiple platform build/check report for BioC 3.9 |
|
This page was generated on 2019-04-09 13:30:29 -0400 (Tue, 09 Apr 2019).
| Package 40/1703 | Hostname | OS / Arch | INSTALL | BUILD | CHECK | BUILD BIN | ||||||
| ALDEx2 1.15.4 Greg Gloor
| malbec2 | Linux (Ubuntu 18.04.2 LTS) / x86_64 | OK | OK | OK | |||||||
| tokay2 | Windows Server 2012 R2 Standard / x64 | OK | OK | OK | OK | |||||||
| celaya2 | OS X 10.11.6 El Capitan / x86_64 | OK | OK | OK | OK | |||||||
| merida2 | OS X 10.11.6 El Capitan / x86_64 | OK | OK | [ OK ] | OK |
| Package: ALDEx2 |
| Version: 1.15.4 |
| Command: /Library/Frameworks/R.framework/Versions/Current/Resources/bin/R CMD check --install=check:ALDEx2.install-out.txt --library=/Library/Frameworks/R.framework/Versions/Current/Resources/library --no-vignettes --timings ALDEx2_1.15.4.tar.gz |
| StartedAt: 2019-04-08 23:11:03 -0400 (Mon, 08 Apr 2019) |
| EndedAt: 2019-04-08 23:14:57 -0400 (Mon, 08 Apr 2019) |
| EllapsedTime: 234.1 seconds |
| RetCode: 0 |
| Status: OK |
| CheckDir: ALDEx2.Rcheck |
| Warnings: 0 |
##############################################################################
##############################################################################
###
### Running command:
###
### /Library/Frameworks/R.framework/Versions/Current/Resources/bin/R CMD check --install=check:ALDEx2.install-out.txt --library=/Library/Frameworks/R.framework/Versions/Current/Resources/library --no-vignettes --timings ALDEx2_1.15.4.tar.gz
###
##############################################################################
##############################################################################
* using log directory ‘/Users/biocbuild/bbs-3.9-bioc/meat/ALDEx2.Rcheck’
* using R Under development (unstable) (2018-11-27 r75683)
* using platform: x86_64-apple-darwin15.6.0 (64-bit)
* using session charset: UTF-8
* using option ‘--no-vignettes’
* checking for file ‘ALDEx2/DESCRIPTION’ ... OK
* checking extension type ... Package
* this is package ‘ALDEx2’ version ‘1.15.4’
* checking package namespace information ... OK
* checking package dependencies ... OK
* checking if this is a source package ... OK
* checking if there is a namespace ... OK
* checking for hidden files and directories ... OK
* checking for portable file names ... OK
* checking for sufficient/correct file permissions ... OK
* checking whether package ‘ALDEx2’ can be installed ... OK
* checking installed package size ... OK
* checking package directory ... OK
* checking ‘build’ directory ... OK
* checking DESCRIPTION meta-information ... OK
* checking top-level files ... OK
* checking for left-over files ... OK
* checking index information ... OK
* checking package subdirectories ... OK
* checking R files for non-ASCII characters ... OK
* checking R files for syntax errors ... OK
* checking whether the package can be loaded ... OK
* checking whether the package can be loaded with stated dependencies ... OK
* checking whether the package can be unloaded cleanly ... OK
* checking whether the namespace can be loaded with stated dependencies ... OK
* checking whether the namespace can be unloaded cleanly ... OK
* checking dependencies in R code ... OK
* checking S3 generic/method consistency ... OK
* checking replacement functions ... OK
* checking foreign function calls ... OK
* checking R code for possible problems ... OK
* checking Rd files ... OK
* checking Rd metadata ... OK
* checking Rd cross-references ... OK
* checking for missing documentation entries ... OK
* checking for code/documentation mismatches ... OK
* checking Rd \usage sections ... OK
* checking Rd contents ... OK
* checking for unstated dependencies in examples ... OK
* checking contents of ‘data’ directory ... OK
* checking data for non-ASCII characters ... OK
* checking data for ASCII and uncompressed saves ... OK
* checking sizes of PDF files under ‘inst/doc’ ... OK
* checking files in ‘vignettes’ ... OK
* checking examples ... OK
Examples with CPU or elapsed time > 5s
user system elapsed
aldex.corr 15.475 0.21 15.823
* checking for unstated dependencies in ‘tests’ ... OK
* checking tests ...
Running ‘testthat.R’
OK
* checking for unstated dependencies in vignettes ... OK
* checking package vignettes in ‘inst/doc’ ... OK
* checking running R code from vignettes ... SKIPPED
* checking re-building of vignette outputs ... SKIPPED
* checking PDF version of manual ... OK
* DONE
Status: OK
ALDEx2.Rcheck/00install.out
############################################################################## ############################################################################## ### ### Running command: ### ### /Library/Frameworks/R.framework/Versions/Current/Resources/bin/R CMD INSTALL ALDEx2 ### ############################################################################## ############################################################################## * installing to library ‘/Library/Frameworks/R.framework/Versions/3.6/Resources/library’ * installing *source* package ‘ALDEx2’ ... ** R ** data ** inst ** byte-compile and prepare package for lazy loading ** help *** installing help indices ** building package indices ** installing vignettes ** testing if installed package can be loaded * DONE (ALDEx2)
ALDEx2.Rcheck/tests/testthat.Rout
R Under development (unstable) (2018-11-27 r75683) -- "Unsuffered Consequences"
Copyright (C) 2018 The R Foundation for Statistical Computing
Platform: x86_64-apple-darwin15.6.0 (64-bit)
R is free software and comes with ABSOLUTELY NO WARRANTY.
You are welcome to redistribute it under certain conditions.
Type 'license()' or 'licence()' for distribution details.
R is a collaborative project with many contributors.
Type 'contributors()' for more information and
'citation()' on how to cite R or R packages in publications.
Type 'demo()' for some demos, 'help()' for on-line help, or
'help.start()' for an HTML browser interface to help.
Type 'q()' to quit R.
> library(testthat)
> library(ALDEx2)
>
> test_check("ALDEx2")
══ testthat results ═══════════════════════════════════════════════════════════
OK: 26 SKIPPED: 0 FAILED: 0
>
> proc.time()
user system elapsed
57.489 1.224 59.213
ALDEx2.Rcheck/ALDEx2-Ex.timings
| name | user | system | elapsed | |
| ALDEx2m-package | 0.000 | 0.000 | 0.001 | |
| aldex | 1.674 | 0.240 | 1.951 | |
| aldex.clr-class | 0.073 | 0.004 | 0.077 | |
| aldex.clr.function-methods | 0.146 | 0.004 | 0.150 | |
| aldex.corr | 15.475 | 0.210 | 15.823 | |
| aldex.effect | 3.401 | 0.051 | 3.483 | |
| aldex.glm | 1.310 | 0.022 | 1.342 | |
| aldex.kw | 2.528 | 0.007 | 2.553 | |
| aldex.set.mode | 0.076 | 0.001 | 0.078 | |
| aldex.ttest | 0.284 | 0.003 | 0.294 | |
| getDenom-method | 0.184 | 0.005 | 0.189 | |
| getFeatureNames-method | 0.064 | 0.003 | 0.068 | |
| getFeatures-method | 0.072 | 0.002 | 0.074 | |
| getMonteCarloInstances-method | 0.076 | 0.003 | 0.079 | |
| getMonteCarloReplicate-method | 0.086 | 0.003 | 0.089 | |
| getReads-method | 0.085 | 0.003 | 0.089 | |
| getSampleIDs-method | 0.077 | 0.003 | 0.080 | |
| numConditions-method | 0.073 | 0.004 | 0.077 | |
| numFeatures-method | 0.068 | 0.001 | 0.070 | |
| numMCInstances-method | 0.072 | 0.001 | 0.074 | |
| plot.aldex | 0.000 | 0.000 | 0.001 | |