| Back to Multiple platform build/check report for BioC 3.9 | 
 | 
This page was generated on 2019-04-09 13:30:49 -0400 (Tue, 09 Apr 2019).
| Package 39/1703 | Hostname | OS / Arch | INSTALL | BUILD | CHECK | BUILD BIN | ||||||
| AIMS 1.15.1 Eric R Paquet 
 | malbec2 | Linux (Ubuntu 18.04.2 LTS) / x86_64 | OK | OK | OK |  | ||||||
| tokay2 | Windows Server 2012 R2 Standard / x64 | OK | OK | OK | OK |  | ||||||
| celaya2 | OS X 10.11.6 El Capitan / x86_64 | OK | OK | OK | OK |  | ||||||
| merida2 | OS X 10.11.6 El Capitan / x86_64 | OK | OK | OK | [ OK ] | 
| Package: AIMS | 
| Version: 1.15.1 | 
| Command: rm -rf AIMS.buildbin-libdir && mkdir AIMS.buildbin-libdir && /Users/biocbuild/BBS/utils/build-universal.sh AIMS_1.15.1.tar.gz /Library/Frameworks/R.framework/Versions/Current/Resources/bin/R AIMS.buildbin-libdir | 
| StartedAt: 2019-04-09 04:40:53 -0400 (Tue, 09 Apr 2019) | 
| EndedAt: 2019-04-09 04:42:14 -0400 (Tue, 09 Apr 2019) | 
| EllapsedTime: 81.4 seconds | 
| RetCode: 0 | 
| Status: OK | 
| PackageFile: AIMS_1.15.1.tgz | 
| PackageFileSize: 580.1 KiB | 
############################################################################## ############################################################################## ### ### Running command: ### ### rm -rf AIMS.buildbin-libdir && mkdir AIMS.buildbin-libdir && /Users/biocbuild/BBS/utils/build-universal.sh AIMS_1.15.1.tar.gz /Library/Frameworks/R.framework/Versions/Current/Resources/bin/R AIMS.buildbin-libdir ### ############################################################################## ############################################################################## >>>>>>> >>>>>>> INSTALLATION WITH 'R CMD INSTALL --preclean --no-multiarch --library=AIMS.buildbin-libdir AIMS_1.15.1.tar.gz' >>>>>>> * installing *source* package ‘AIMS’ ... ** R ** data *** moving datasets to lazyload DB ** inst ** byte-compile and prepare package for lazy loading ** help *** installing help indices ** building package indices ** installing vignettes ** testing if installed package can be loaded * DONE (AIMS)