| Back to Multiple platform build/check report for BioC 3.9 |
|
This page was generated on 2019-04-09 11:58:38 -0400 (Tue, 09 Apr 2019).
| Package 15/1703 | Hostname | OS / Arch | INSTALL | BUILD | CHECK | BUILD BIN | ||||||
| ADaCGH2 2.23.0 Ramon Diaz-Uriarte
| malbec2 | Linux (Ubuntu 18.04.2 LTS) / x86_64 | OK | OK | OK | |||||||
| tokay2 | Windows Server 2012 R2 Standard / x64 | [ OK ] | OK | OK | OK | |||||||
| celaya2 | OS X 10.11.6 El Capitan / x86_64 | OK | OK | OK | OK | |||||||
| merida2 | OS X 10.11.6 El Capitan / x86_64 | OK | OK | OK | OK |
| Package: ADaCGH2 |
| Version: 2.23.0 |
| Command: C:\cygwin\bin\curl.exe -O https://malbec2.bioconductor.org/BBS/3.9/bioc/src/contrib/ADaCGH2_2.23.0.tar.gz && rm -rf ADaCGH2.buildbin-libdir && mkdir ADaCGH2.buildbin-libdir && C:\Users\biocbuild\bbs-3.9-bioc\R\bin\R.exe CMD INSTALL --merge-multiarch --build --library=ADaCGH2.buildbin-libdir ADaCGH2_2.23.0.tar.gz && C:\Users\biocbuild\bbs-3.9-bioc\R\bin\R.exe CMD INSTALL ADaCGH2_2.23.0.zip && rm ADaCGH2_2.23.0.tar.gz ADaCGH2_2.23.0.zip |
| StartedAt: 2019-04-08 19:28:55 -0400 (Mon, 08 Apr 2019) |
| EndedAt: 2019-04-08 19:31:21 -0400 (Mon, 08 Apr 2019) |
| EllapsedTime: 146.2 seconds |
| RetCode: 0 |
| Status: OK |
##############################################################################
##############################################################################
###
### Running command:
###
### C:\cygwin\bin\curl.exe -O https://malbec2.bioconductor.org/BBS/3.9/bioc/src/contrib/ADaCGH2_2.23.0.tar.gz && rm -rf ADaCGH2.buildbin-libdir && mkdir ADaCGH2.buildbin-libdir && C:\Users\biocbuild\bbs-3.9-bioc\R\bin\R.exe CMD INSTALL --merge-multiarch --build --library=ADaCGH2.buildbin-libdir ADaCGH2_2.23.0.tar.gz && C:\Users\biocbuild\bbs-3.9-bioc\R\bin\R.exe CMD INSTALL ADaCGH2_2.23.0.zip && rm ADaCGH2_2.23.0.tar.gz ADaCGH2_2.23.0.zip
###
##############################################################################
##############################################################################
% Total % Received % Xferd Average Speed Time Time Time Current
Dload Upload Total Spent Left Speed
0 0 0 0 0 0 0 0 --:--:-- --:--:-- --:--:-- 0
0 0 0 0 0 0 0 0 --:--:-- --:--:-- --:--:-- 0
100 720k 100 720k 0 0 10.8M 0 --:--:-- --:--:-- --:--:-- 11.9M
install for i386
* installing *source* package 'ADaCGH2' ...
** libs
C:/Rtools/mingw_32/bin/gcc -I"C:/Users/BIOCBU˜1/BBS-3˜1.9-B/R/include" -DNDEBUG -I"C:/extsoft/include" -O3 -Wall -std=gnu99 -mtune=generic -c init.c -o init.o
C:/Rtools/mingw_32/bin/gcc -I"C:/Users/BIOCBU˜1/BBS-3˜1.9-B/R/include" -DNDEBUG -I"C:/extsoft/include" -O3 -Wall -std=gnu99 -mtune=generic -c r_haarseg.c -o r_haarseg.o
r_haarseg.c: In function 'ad_HaarConv':
r_haarseg.c:65:12: warning: unused variable 'totalNorm' [-Wunused-variable]
double totalNorm;
^
r_haarseg.c: In function 'ad_FindLocalPeaks':
r_haarseg.c:152:8: warning: "/*" within comment [-Wcomment]
}/* for j */
^
r_haarseg.c:176:8: warning: "/*" within comment [-Wcomment]
}/* for j */
^
r_haarseg.c:128:9: warning: unused variable 'j' [-Wunused-variable]
int k,j;
^
r_haarseg.c: In function 'ad_HaarConv':
r_haarseg.c:97:27: warning: 'highNonNormed' may be used uninitialized in this function [-Wmaybe-uninitialized]
highNonNormed += signal[highEnd]*weight[highEnd] - signal[k-1]*weight[k-1];
^
r_haarseg.c:96:26: warning: 'lowNonNormed' may be used uninitialized in this function [-Wmaybe-uninitialized]
lowNonNormed += signal[lowEnd]*weight[lowEnd] - signal[k-1]*weight[k-1];
^
r_haarseg.c:99:27: warning: 'highWeightSum' may be used uninitialized in this function [-Wmaybe-uninitialized]
highWeightSum += weight[highEnd] - weight[k-1];
^
r_haarseg.c:98:26: warning: 'lowWeightSum' may be used uninitialized in this function [-Wmaybe-uninitialized]
lowWeightSum += weight[k-1] - weight[lowEnd];
^
C:/Rtools/mingw_32/bin/gcc -shared -s -static-libgcc -o ADaCGH2.dll tmp.def init.o r_haarseg.o -LC:/extsoft/lib/i386 -LC:/extsoft/lib -LC:/Users/BIOCBU˜1/BBS-3˜1.9-B/R/bin/i386 -lR
installing to C:/Users/biocbuild/bbs-3.9-bioc/meat/ADaCGH2.buildbin-libdir/00LOCK-ADaCGH2/00new/ADaCGH2/libs/i386
** R
** data
** inst
** byte-compile and prepare package for lazy loading
** help
*** installing help indices
converting help for package 'ADaCGH2'
finding HTML links ... done
cutFile html
inputEx html
inputToADaCGH html
finding level-2 HTML links ... done
outputToCGHregions html
pChromPlot html
pSegment html
** building package indices
** installing vignettes
'ADaCGH2.Rnw' using 'latin1'
** testing if installed package can be loaded from temporary location
** testing if installed package can be loaded from final location
** testing if installed package keeps a record of temporary installation path
install for x64
* installing *source* package 'ADaCGH2' ...
** libs
C:/Rtools/mingw_64/bin/gcc -I"C:/Users/BIOCBU˜1/BBS-3˜1.9-B/R/include" -DNDEBUG -I"C:/extsoft/include" -O2 -Wall -std=gnu99 -mtune=generic -c init.c -o init.o
C:/Rtools/mingw_64/bin/gcc -I"C:/Users/BIOCBU˜1/BBS-3˜1.9-B/R/include" -DNDEBUG -I"C:/extsoft/include" -O2 -Wall -std=gnu99 -mtune=generic -c r_haarseg.c -o r_haarseg.o
r_haarseg.c: In function 'ad_HaarConv':
r_haarseg.c:65:12: warning: unused variable 'totalNorm' [-Wunused-variable]
double totalNorm;
^
r_haarseg.c: In function 'ad_FindLocalPeaks':
r_haarseg.c:152:8: warning: "/*" within comment [-Wcomment]
}/* for j */
^
r_haarseg.c:176:8: warning: "/*" within comment [-Wcomment]
}/* for j */
^
r_haarseg.c:128:9: warning: unused variable 'j' [-Wunused-variable]
int k,j;
^
r_haarseg.c: In function 'ad_HaarConv':
r_haarseg.c:97:27: warning: 'highNonNormed' may be used uninitialized in this function [-Wmaybe-uninitialized]
highNonNormed += signal[highEnd]*weight[highEnd] - signal[k-1]*weight[k-1];
^
r_haarseg.c:96:26: warning: 'lowNonNormed' may be used uninitialized in this function [-Wmaybe-uninitialized]
lowNonNormed += signal[lowEnd]*weight[lowEnd] - signal[k-1]*weight[k-1];
^
r_haarseg.c:99:27: warning: 'highWeightSum' may be used uninitialized in this function [-Wmaybe-uninitialized]
highWeightSum += weight[highEnd] - weight[k-1];
^
r_haarseg.c:98:26: warning: 'lowWeightSum' may be used uninitialized in this function [-Wmaybe-uninitialized]
lowWeightSum += weight[k-1] - weight[lowEnd];
^
C:/Rtools/mingw_64/bin/gcc -shared -s -static-libgcc -o ADaCGH2.dll tmp.def init.o r_haarseg.o -LC:/extsoft/lib/x64 -LC:/extsoft/lib -LC:/Users/BIOCBU˜1/BBS-3˜1.9-B/R/bin/x64 -lR
installing to C:/Users/biocbuild/bbs-3.9-bioc/meat/ADaCGH2.buildbin-libdir/ADaCGH2/libs/x64
** testing if installed package can be loaded
* MD5 sums
packaged installation of 'ADaCGH2' as ADaCGH2_2.23.0.zip
* DONE (ADaCGH2)
* installing to library 'C:/Users/biocbuild/bbs-3.9-bioc/R/library'
package 'ADaCGH2' successfully unpacked and MD5 sums checked