| Back to Multiple platform build/check report for BioC 3.9 |
|
This page was generated on 2019-04-09 11:55:07 -0400 (Tue, 09 Apr 2019).
| Package 8/1703 | Hostname | OS / Arch | INSTALL | BUILD | CHECK | BUILD BIN | ||||||
| ABarray 1.51.0 Yongming Andrew Sun
| malbec2 | Linux (Ubuntu 18.04.2 LTS) / x86_64 | OK | OK | OK | |||||||
| tokay2 | Windows Server 2012 R2 Standard / x64 | [ OK ] | OK | OK | OK | |||||||
| celaya2 | OS X 10.11.6 El Capitan / x86_64 | OK | OK | OK | OK | |||||||
| merida2 | OS X 10.11.6 El Capitan / x86_64 | OK | OK | OK | OK |
| Package: ABarray |
| Version: 1.51.0 |
| Command: C:\cygwin\bin\curl.exe -O https://malbec2.bioconductor.org/BBS/3.9/bioc/src/contrib/ABarray_1.51.0.tar.gz && rm -rf ABarray.buildbin-libdir && mkdir ABarray.buildbin-libdir && C:\Users\biocbuild\bbs-3.9-bioc\R\bin\R.exe CMD INSTALL --merge-multiarch --build --library=ABarray.buildbin-libdir ABarray_1.51.0.tar.gz && C:\Users\biocbuild\bbs-3.9-bioc\R\bin\R.exe CMD INSTALL ABarray_1.51.0.zip && rm ABarray_1.51.0.tar.gz ABarray_1.51.0.zip |
| StartedAt: 2019-04-08 19:27:31 -0400 (Mon, 08 Apr 2019) |
| EndedAt: 2019-04-08 19:28:24 -0400 (Mon, 08 Apr 2019) |
| EllapsedTime: 53.5 seconds |
| RetCode: 0 |
| Status: OK |
##############################################################################
##############################################################################
###
### Running command:
###
### C:\cygwin\bin\curl.exe -O https://malbec2.bioconductor.org/BBS/3.9/bioc/src/contrib/ABarray_1.51.0.tar.gz && rm -rf ABarray.buildbin-libdir && mkdir ABarray.buildbin-libdir && C:\Users\biocbuild\bbs-3.9-bioc\R\bin\R.exe CMD INSTALL --merge-multiarch --build --library=ABarray.buildbin-libdir ABarray_1.51.0.tar.gz && C:\Users\biocbuild\bbs-3.9-bioc\R\bin\R.exe CMD INSTALL ABarray_1.51.0.zip && rm ABarray_1.51.0.tar.gz ABarray_1.51.0.zip
###
##############################################################################
##############################################################################
% Total % Received % Xferd Average Speed Time Time Time Current
Dload Upload Total Spent Left Speed
0 0 0 0 0 0 0 0 --:--:-- --:--:-- --:--:-- 0
100 122k 100 122k 0 0 2081k 0 --:--:-- --:--:-- --:--:-- 2357k
install for i386
* installing *source* package 'ABarray' ...
** R
** byte-compile and prepare package for lazy loading
** help
*** installing help indices
converting help for package 'ABarray'
finding HTML links ... done
ABarray html
ABarrayGUI html
calcsn html
concord html
cvv html
cvvPlot html
doANOVA html
doLPE html
doPlotEset html
doPlotFCT html
doVennDiagram html
drawVennDiagram html
getMemberEset html
getPantherMap html
hclusterPlot html
icpPlot html
imputeFlag html
lpe.fdr.BH html
mamaplot html
matrixPlot html
mvaPair2 html
panel.cor html
panel.scatter html
qnNormalize html
rgcolorsfunc html
savejpg html
scaleColorBar html
snSummary html
** building package indices
** installing vignettes
** testing if installed package can be loaded from temporary location
** testing if installed package can be loaded from final location
** testing if installed package keeps a record of temporary installation path
install for x64
* installing *source* package 'ABarray' ...
** testing if installed package can be loaded
* MD5 sums
packaged installation of 'ABarray' as ABarray_1.51.0.zip
* DONE (ABarray)
* installing to library 'C:/Users/biocbuild/bbs-3.9-bioc/R/library'
package 'ABarray' successfully unpacked and MD5 sums checked