| Back to Workflows build report for BioC 3.8 | 
This page was generated on 2019-04-16 17:26:32 -0400 (Tue, 16 Apr 2019).
| Package 7/23 | Hostname | OS / Arch | INSTALL | BUILD | ||||||
| eQTL 1.4.0 Vincent Carey 
  | malbec1 | Linux (Ubuntu 16.04.6 LTS) / x86_64 | [ OK ] | OK | 
| Package: eQTL | 
| Version: 1.4.0 | 
| Command: /home/biocbuild/bbs-3.8-bioc/R/bin/R CMD INSTALL eQTL | 
| StartedAt: 2019-04-16 16:34:58 -0400 (Tue, 16 Apr 2019) | 
| EndedAt: 2019-04-16 16:35:40 -0400 (Tue, 16 Apr 2019) | 
| EllapsedTime: 42.3 seconds | 
| RetCode: 0 | 
| Status: OK | 
############################################################################## ############################################################################## ### ### Running command: ### ### /home/biocbuild/bbs-3.8-bioc/R/bin/R CMD INSTALL eQTL ### ############################################################################## ############################################################################## * installing to library ‘/home/biocbuild/bbs-3.8-bioc/R/library’ * installing *source* package ‘eQTL’ ... ** data *** moving datasets to lazyload DB ** help No man pages found in package ‘eQTL’ *** installing help indices ** building package indices ** installing vignettes ** testing if installed package can be loaded * DONE (eQTL)