Back to
Workflows build report for BioC 3.8
Workflows build report for BioC 3.8
Results for simpleSingleCell
This page was generated on 2019-04-16 17:26:32 -0400 (Tue, 16 Apr 2019).
Package
21
/23
Hostname
OS / Arch
INSTALL
BUILD
simpleSingleCell
1.4.1
Aaron Lun
Snapshot Date:
2019-04-16 16:31:01 -0400 (Tue, 16 Apr 2019)
URL:
https://git.bioconductor.org/packages/simpleSingleCell
Branch:
RELEASE_3_8
Last Commit:
63253aa
Last Changed Date:
2019-01-08 11:01:14 -0400 (Tue, 08 Jan 2019)
malbec1
Linux (Ubuntu 16.04.6 LTS) / x86_64
OK
ERROR