| Back to Workflows build report for BioC 3.8 |
This page was generated on 2018-05-18 09:51:45 -0400 (Fri, 18 May 2018).
| Package 10/21 | Hostname | OS / Arch | INSTALL | BUILD | ||||||
| highthroughputassays 1.3.0 Bioconductor Package Maintainer
| malbec1 | Linux (Ubuntu 16.04.1 LTS) / x86_64 | OK | OK |
| Package: highthroughputassays |
| Version: 1.3.0 |
| Command: /home/biocbuild/bbs-3.8-bioc/R/bin/R -q -e 'rmarkdown::render(".buildwebvig/highthroughputassays/high-throughput-assays.Rmd", output_format="BiocStyle:::html_fragment")' && /home/biocbuild/bbs-3.8-bioc/R/bin/R -q -e 'knitr::purl(".buildwebvig/highthroughputassays/high-throughput-assays.Rmd", ".buildwebvig/highthroughputassays/high-throughput-assays.R")' |
| StartedAt: 2018-05-18 08:43:54 -0400 (Fri, 18 May 2018) |
| EndedAt: 2018-05-18 08:44:08 -0400 (Fri, 18 May 2018) |
| EllapsedTime: 14.0 seconds |
| RetCode: 0 |
| Status: OK |
##############################################################################
##############################################################################
###
### Running command:
###
### /home/biocbuild/bbs-3.8-bioc/R/bin/R -q -e 'rmarkdown::render(".buildwebvig/highthroughputassays/high-throughput-assays.Rmd", output_format="BiocStyle:::html_fragment")' && /home/biocbuild/bbs-3.8-bioc/R/bin/R -q -e 'knitr::purl(".buildwebvig/highthroughputassays/high-throughput-assays.Rmd", ".buildwebvig/highthroughputassays/high-throughput-assays.R")'
###
##############################################################################
##############################################################################
> rmarkdown::render(".buildwebvig/highthroughputassays/high-throughput-assays.Rmd", output_format="BiocStyle:::html_fragment")
processing file: high-throughput-assays.Rmd
|
| | 0%
|
|... | 5%
ordinary text without R code
|
|....... | 10%
label: unnamed-chunk-1 (with options)
List of 3
$ echo : logi FALSE
$ results: chr "hide"
$ warning: logi FALSE
|
|.......... | 14%
inline R code fragments
|
|............. | 19%
label: unnamed-chunk-2 (with options)
List of 3
$ echo : logi FALSE
$ results: chr "hide"
$ warning: logi FALSE
|
|................. | 24%
ordinary text without R code
|
|.................... | 29%
label: unnamed-chunk-3
|
|....................... | 33%
ordinary text without R code
|
|........................... | 38%
label: unnamed-chunk-4
|
|.............................. | 43%
ordinary text without R code
|
|................................. | 48%
label: unnamed-chunk-5
|
|..................................... | 52%
ordinary text without R code
|
|........................................ | 57%
label: unnamed-chunk-6 (with options)
List of 1
$ eval: logi FALSE
|
|........................................... | 62%
ordinary text without R code
|
|............................................... | 67%
label: unnamed-chunk-7 (with options)
List of 1
$ eval: logi FALSE
|
|.................................................. | 71%
ordinary text without R code
|
|..................................................... | 76%
label: unnamed-chunk-8 (with options)
List of 1
$ eval: logi FALSE
|
|......................................................... | 81%
ordinary text without R code
|
|............................................................ | 86%
label: unnamed-chunk-9 (with options)
List of 1
$ eval: logi FALSE
|
|............................................................... | 90%
ordinary text without R code
|
|................................................................... | 95%
label: unnamed-chunk-10
|
|......................................................................| 100%
ordinary text without R code
output file: high-throughput-assays.knit.md
/usr/bin/pandoc +RTS -K512m -RTS high-throughput-assays.utf8.md --to html4 --from markdown+autolink_bare_uris+ascii_identifiers+tex_math_single_backslash+smart --output high-throughput-assays.html --email-obfuscation none --self-contained --wrap preserve --standalone --section-divs --table-of-contents --toc-depth 3 --template /home/biocbuild/bbs-3.8-bioc/R/library/BiocStyle/resources/fragment.html --no-highlight --number-sections --mathjax --variable 'mathjax-url:https://mathjax.rstudio.com/latest/MathJax.js?config=TeX-AMS-MML_HTMLorMML'
Output created: high-throughput-assays.html
>
>
> knitr::purl(".buildwebvig/highthroughputassays/high-throughput-assays.Rmd", ".buildwebvig/highthroughputassays/high-throughput-assays.R")
processing file: .buildwebvig/highthroughputassays/high-throughput-assays.Rmd
|
| | 0%
|
|... | 5%
|
|...... | 10%
|
|......... | 14%
|
|............ | 19%
|
|............... | 24%
|
|................... | 29%
|
|...................... | 33%
|
|......................... | 38%
|
|............................ | 43%
|
|............................... | 48%
|
|.................................. | 52%
|
|..................................... | 57%
|
|........................................ | 62%
|
|........................................... | 67%
|
|.............................................. | 71%
|
|.................................................. | 76%
|
|..................................................... | 81%
|
|........................................................ | 86%
|
|........................................................... | 90%
|
|.............................................................. | 95%
|
|.................................................................| 100%
output file: .buildwebvig/highthroughputassays/high-throughput-assays.R
[1] ".buildwebvig/highthroughputassays/high-throughput-assays.R"
>
>