| Back to Workflows build report for BioC 3.8 |
This page was generated on 2018-05-18 09:51:43 -0400 (Fri, 18 May 2018).
| Package 1/21 | Hostname | OS / Arch | INSTALL | BUILD | ||||||
| annotation 1.3.0 Bioconductor Package Maintainer
| malbec1 | Linux (Ubuntu 16.04.1 LTS) / x86_64 | OK | OK |
| Package: annotation |
| Version: 1.3.0 |
| Command: /home/biocbuild/bbs-3.8-bioc/R/bin/R -q -e 'rmarkdown::render(".buildwebvig/annotation/Annotating_Genomic_Ranges.Rmd", output_format="BiocStyle:::html_fragment")' && /home/biocbuild/bbs-3.8-bioc/R/bin/R -q -e 'knitr::purl(".buildwebvig/annotation/Annotating_Genomic_Ranges.Rmd", ".buildwebvig/annotation/Annotating_Genomic_Ranges.R")' && /home/biocbuild/bbs-3.8-bioc/R/bin/R -q -e 'rmarkdown::render(".buildwebvig/annotation/Annotation_Resources.Rmd", output_format="BiocStyle:::html_fragment")' && /home/biocbuild/bbs-3.8-bioc/R/bin/R -q -e 'knitr::purl(".buildwebvig/annotation/Annotation_Resources.Rmd", ".buildwebvig/annotation/Annotation_Resources.R")' |
| StartedAt: 2018-05-18 08:43:42 -0400 (Fri, 18 May 2018) |
| EndedAt: 2018-05-18 08:49:36 -0400 (Fri, 18 May 2018) |
| EllapsedTime: 354.5 seconds |
| RetCode: 0 |
| Status: OK |
##############################################################################
##############################################################################
###
### Running command:
###
### /home/biocbuild/bbs-3.8-bioc/R/bin/R -q -e 'rmarkdown::render(".buildwebvig/annotation/Annotating_Genomic_Ranges.Rmd", output_format="BiocStyle:::html_fragment")' && /home/biocbuild/bbs-3.8-bioc/R/bin/R -q -e 'knitr::purl(".buildwebvig/annotation/Annotating_Genomic_Ranges.Rmd", ".buildwebvig/annotation/Annotating_Genomic_Ranges.R")' && /home/biocbuild/bbs-3.8-bioc/R/bin/R -q -e 'rmarkdown::render(".buildwebvig/annotation/Annotation_Resources.Rmd", output_format="BiocStyle:::html_fragment")' && /home/biocbuild/bbs-3.8-bioc/R/bin/R -q -e 'knitr::purl(".buildwebvig/annotation/Annotation_Resources.Rmd", ".buildwebvig/annotation/Annotation_Resources.R")'
###
##############################################################################
##############################################################################
> rmarkdown::render(".buildwebvig/annotation/Annotating_Genomic_Ranges.Rmd", output_format="BiocStyle:::html_fragment")
processing file: Annotating_Genomic_Ranges.Rmd
|
| | 0%
|
|.. | 2%
ordinary text without R code
|
|... | 4%
label: unnamed-chunk-1 (with options)
List of 3
$ echo : logi FALSE
$ results: chr "hide"
$ warning: logi FALSE
|
|..... | 7%
inline R code fragments
|
|...... | 9%
label: unnamed-chunk-2 (with options)
List of 1
$ echo: logi FALSE
|
|........ | 11%
ordinary text without R code
|
|......... | 13%
label: unnamed-chunk-3
|
|........... | 15%
ordinary text without R code
|
|............ | 17%
label: unnamed-chunk-4
|
|.............. | 20%
ordinary text without R code
|
|............... | 22%
label: unnamed-chunk-5
|
|................. | 24%
ordinary text without R code
|
|.................. | 26%
label: unnamed-chunk-6
|
|.................... | 28%
ordinary text without R code
|
|..................... | 30%
label: unnamed-chunk-7
|
|....................... | 33%
ordinary text without R code
|
|........................ | 35%
label: unnamed-chunk-8
|
|.......................... | 37%
ordinary text without R code
|
|........................... | 39%
label: unnamed-chunk-9
|
|............................. | 41%
ordinary text without R code
|
|.............................. | 43%
label: unnamed-chunk-10
|
|................................ | 46%
ordinary text without R code
|
|................................. | 48%
label: unnamed-chunk-11
|
|................................... | 50%
ordinary text without R code
|
|..................................... | 52%
label: unnamed-chunk-12
|
|...................................... | 54%
ordinary text without R code
|
|........................................ | 57%
label: unnamed-chunk-13
|
|......................................... | 59%
ordinary text without R code
|
|........................................... | 61%
label: unnamed-chunk-14
|
|............................................ | 63%
ordinary text without R code
|
|.............................................. | 65%
label: unnamed-chunk-15
|
|............................................... | 67%
ordinary text without R code
|
|................................................. | 70%
label: unnamed-chunk-16
|
|.................................................. | 72%
ordinary text without R code
|
|.................................................... | 74%
label: unnamed-chunk-17
|
|..................................................... | 76%
ordinary text without R code
|
|....................................................... | 78%
label: unnamed-chunk-18
|
|........................................................ | 80%
ordinary text without R code
|
|.......................................................... | 83%
label: unnamed-chunk-19 (with options)
List of 1
$ echo: logi FALSE
|
|........................................................... | 85%
label: unnamed-chunk-20
|
|............................................................. | 87%
ordinary text without R code
|
|.............................................................. | 89%
label: unnamed-chunk-21
|
|................................................................ | 91%
ordinary text without R code
|
|................................................................. | 93%
label: unnamed-chunk-22
|
|................................................................... | 96%
ordinary text without R code
|
|.................................................................... | 98%
label: sess
|
|......................................................................| 100%
ordinary text without R code
output file: Annotating_Genomic_Ranges.knit.md
/usr/bin/pandoc +RTS -K512m -RTS Annotating_Genomic_Ranges.utf8.md --to html4 --from markdown+autolink_bare_uris+ascii_identifiers+tex_math_single_backslash+smart --output Annotating_Genomic_Ranges.html --email-obfuscation none --self-contained --wrap preserve --standalone --section-divs --table-of-contents --toc-depth 3 --template /home/biocbuild/bbs-3.8-bioc/R/library/BiocStyle/resources/fragment.html --no-highlight --number-sections --mathjax --variable 'mathjax-url:https://mathjax.rstudio.com/latest/MathJax.js?config=TeX-AMS-MML_HTMLorMML'
Output created: Annotating_Genomic_Ranges.html
>
>
> knitr::purl(".buildwebvig/annotation/Annotating_Genomic_Ranges.Rmd", ".buildwebvig/annotation/Annotating_Genomic_Ranges.R")
processing file: .buildwebvig/annotation/Annotating_Genomic_Ranges.Rmd
|
| | 0%
|
|. | 2%
|
|... | 4%
|
|.... | 7%
|
|...... | 9%
|
|....... | 11%
|
|........ | 13%
|
|.......... | 15%
|
|........... | 17%
|
|............. | 20%
|
|.............. | 22%
|
|................ | 24%
|
|................. | 26%
|
|.................. | 28%
|
|.................... | 30%
|
|..................... | 33%
|
|....................... | 35%
|
|........................ | 37%
|
|......................... | 39%
|
|........................... | 41%
|
|............................ | 43%
|
|.............................. | 46%
|
|............................... | 48%
|
|................................ | 50%
|
|.................................. | 52%
|
|................................... | 54%
|
|..................................... | 57%
|
|...................................... | 59%
|
|........................................ | 61%
|
|......................................... | 63%
|
|.......................................... | 65%
|
|............................................ | 67%
|
|............................................. | 70%
|
|............................................... | 72%
|
|................................................ | 74%
|
|................................................. | 76%
|
|................................................... | 78%
|
|.................................................... | 80%
|
|...................................................... | 83%
|
|....................................................... | 85%
|
|......................................................... | 87%
|
|.......................................................... | 89%
|
|........................................................... | 91%
|
|............................................................. | 93%
|
|.............................................................. | 96%
|
|................................................................ | 98%
|
|.................................................................| 100%
output file: .buildwebvig/annotation/Annotating_Genomic_Ranges.R
[1] ".buildwebvig/annotation/Annotating_Genomic_Ranges.R"
>
>
> rmarkdown::render(".buildwebvig/annotation/Annotation_Resources.Rmd", output_format="BiocStyle:::html_fragment")
processing file: Annotation_Resources.Rmd
|
| | 0%
|
| | 1%
ordinary text without R code
|
|. | 1%
label: unnamed-chunk-1 (with options)
List of 3
$ echo : logi FALSE
$ results: chr "hide"
$ warning: logi FALSE
|
|. | 2%
inline R code fragments
|
|.. | 3%
label: unnamed-chunk-2 (with options)
List of 1
$ eval: logi FALSE
ordinary text without R code
|
|... | 4%
label: unnamed-chunk-3 (with options)
List of 1
$ echo: logi FALSE
|
|... | 5%
ordinary text without R code
|
|.... | 6%
label: unnamed-chunk-4 (with options)
List of 1
$ eval: logi FALSE
ordinary text without R code
|
|..... | 7%
label: unnamed-chunk-5
|
|..... | 8%
ordinary text without R code
|
|...... | 8%
label: unnamed-chunk-6
|
|...... | 9%
ordinary text without R code
|
|....... | 10%
label: unnamed-chunk-7
ordinary text without R code
|
|........ | 11%
label: unnamed-chunk-8
|
|........ | 12%
ordinary text without R code
|
|......... | 13%
label: unnamed-chunk-9
ordinary text without R code
|
|.......... | 14%
label: unnamed-chunk-10
|
|.......... | 15%
ordinary text without R code
|
|........... | 15%
label: unnamed-chunk-11
|
|........... | 16%
ordinary text without R code
|
|............ | 17%
label: unnamed-chunk-12 (with options)
List of 1
$ eval: logi FALSE
ordinary text without R code
|
|............. | 18%
label: unnamed-chunk-13
|
|............. | 19%
ordinary text without R code
|
|.............. | 20%
label: unnamed-chunk-14
ordinary text without R code
|
|............... | 21%
label: unnamed-chunk-15
|
|............... | 22%
ordinary text without R code
|
|................ | 22%
label: unnamed-chunk-16
|
|................ | 23%
ordinary text without R code
|
|................. | 24%
label: unnamed-chunk-17
ordinary text without R code
|
|.................. | 25%
label: unnamed-chunk-18
|
|.................. | 26%
ordinary text without R code
|
|................... | 27%
label: unnamed-chunk-19
ordinary text without R code
|
|.................... | 28%
label: unnamed-chunk-20
|
|.................... | 29%
ordinary text without R code
|
|..................... | 29%
label: unnamed-chunk-21
|
|..................... | 30%
ordinary text without R code
|
|...................... | 31%
label: unnamed-chunk-22
ordinary text without R code
|
|....................... | 32%
label: unnamed-chunk-23
|
|....................... | 33%
ordinary text without R code
|
|....................... | 34%
label: unnamed-chunk-24
|
|........................ | 34%
ordinary text without R code
|
|........................ | 35%
label: unnamed-chunk-25
|
|......................... | 36%
ordinary text without R code
label: unnamed-chunk-26
|
|.......................... | 37%
ordinary text without R code
|
|.......................... | 38%
label: unnamed-chunk-27
|
|........................... | 38%
ordinary text without R code
|
|........................... | 39%
label: unnamed-chunk-28
|
|............................ | 40%
ordinary text without R code
|
|............................ | 41%
label: unnamed-chunk-29
|
|............................. | 41%
ordinary text without R code
|
|............................. | 42%
label: unnamed-chunk-30
|
|.............................. | 43%
ordinary text without R code
label: unnamed-chunk-31 (with options)
List of 1
$ eval: logi FALSE
|
|............................... | 44%
ordinary text without R code
|
|............................... | 45%
label: unnamed-chunk-32
|
|................................ | 45%
ordinary text without R code
|
|................................ | 46%
label: unnamed-chunk-33
|
|................................. | 47%
ordinary text without R code
|
|................................. | 48%
label: unnamed-chunk-34
|
|.................................. | 48%
label: unnamed-chunk-35 (with options)
List of 1
$ eval: logi FALSE
|
|.................................. | 49%
label: unnamed-chunk-36 (with options)
List of 1
$ echo: logi FALSE
|
|................................... | 50%
label: unnamed-chunk-37
ordinary text without R code
|
|.................................... | 51%
label: unnamed-chunk-38 (with options)
List of 1
$ eval: logi FALSE
|
|.................................... | 52%
label: unnamed-chunk-39
|
|..................................... | 52%
ordinary text without R code
|
|..................................... | 53%
label: unnamed-chunk-40
|
|...................................... | 54%
ordinary text without R code
|
|...................................... | 55%
label: unnamed-chunk-41
|
|....................................... | 55%
ordinary text without R code
|
|....................................... | 56%
label: unnamed-chunk-42
|
|........................................ | 57%
ordinary text without R code
label: unnamed-chunk-43
|
|......................................... | 58%
ordinary text without R code
|
|......................................... | 59%
label: unnamed-chunk-44
|
|.......................................... | 59%
ordinary text without R code
|
|.......................................... | 60%
label: unnamed-chunk-45
|
|........................................... | 61%
ordinary text without R code
|
|........................................... | 62%
label: unnamed-chunk-46
|
|............................................ | 62%
ordinary text without R code
|
|............................................ | 63%
label: unnamed-chunk-47
|
|............................................. | 64%
ordinary text without R code
label: unnamed-chunk-48 (with options)
List of 1
$ eval: logi FALSE
|
|.............................................. | 65%
ordinary text without R code
|
|.............................................. | 66%
label: unnamed-chunk-49
|
|............................................... | 66%
ordinary text without R code
|
|............................................... | 67%
label: unnamed-chunk-50
|
|............................................... | 68%
ordinary text without R code
|
|................................................ | 69%
label: unnamed-chunk-51
ordinary text without R code
|
|................................................. | 70%
label: unnamed-chunk-52
|
|................................................. | 71%
ordinary text without R code
|
|.................................................. | 71%
label: unnamed-chunk-53
|
|.................................................. | 72%
ordinary text without R code
|
|................................................... | 73%
label: unnamed-chunk-54
ordinary text without R code
|
|.................................................... | 74%
label: unnamed-chunk-55
|
|.................................................... | 75%
ordinary text without R code
|
|..................................................... | 76%
label: unnamed-chunk-56 (with options)
List of 1
$ eval: logi FALSE
ordinary text without R code
|
|...................................................... | 77%
label: unnamed-chunk-57
|
|...................................................... | 78%
ordinary text without R code
|
|....................................................... | 78%
label: unnamed-chunk-58
|
|....................................................... | 79%
ordinary text without R code
|
|........................................................ | 80%
label: unnamed-chunk-59
ordinary text without R code
|
|......................................................... | 81%
label: unnamed-chunk-60
|
|......................................................... | 82%
ordinary text without R code
|
|.......................................................... | 83%
label: unnamed-chunk-61
ordinary text without R code
|
|........................................................... | 84%
label: unnamed-chunk-62
|
|........................................................... | 85%
ordinary text without R code
|
|............................................................ | 85%
label: unnamed-chunk-63
|
|............................................................ | 86%
ordinary text without R code
|
|............................................................. | 87%
label: unnamed-chunk-64
ordinary text without R code
|
|.............................................................. | 88%
label: unnamed-chunk-65
|
|.............................................................. | 89%
ordinary text without R code
|
|............................................................... | 90%
label: unnamed-chunk-66 (with options)
List of 1
$ eval: logi FALSE
ordinary text without R code
|
|................................................................ | 91%
label: unnamed-chunk-67
|
|................................................................ | 92%
ordinary text without R code
|
|................................................................. | 92%
label: unnamed-chunk-68
|
|................................................................. | 93%
ordinary text without R code
|
|.................................................................. | 94%
label: unnamed-chunk-69
ordinary text without R code
|
|................................................................... | 95%
label: unnamed-chunk-70
|
|................................................................... | 96%
ordinary text without R code
|
|.................................................................... | 97%
label: unnamed-chunk-71 (with options)
List of 1
$ eval: logi FALSE
ordinary text without R code
|
|..................................................................... | 98%
label: unnamed-chunk-72
|
|..................................................................... | 99%
ordinary text without R code
|
|......................................................................| 99%
label: unnamed-chunk-73
|
|......................................................................| 100%
ordinary text without R code
output file: Annotation_Resources.knit.md
/usr/bin/pandoc +RTS -K512m -RTS Annotation_Resources.utf8.md --to html4 --from markdown+autolink_bare_uris+ascii_identifiers+tex_math_single_backslash+smart --output Annotation_Resources.html --email-obfuscation none --self-contained --wrap preserve --standalone --section-divs --table-of-contents --toc-depth 3 --template /home/biocbuild/bbs-3.8-bioc/R/library/BiocStyle/resources/fragment.html --no-highlight --number-sections --mathjax --variable 'mathjax-url:https://mathjax.rstudio.com/latest/MathJax.js?config=TeX-AMS-MML_HTMLorMML'
Output created: Annotation_Resources.html
>
>
> knitr::purl(".buildwebvig/annotation/Annotation_Resources.Rmd", ".buildwebvig/annotation/Annotation_Resources.R")
processing file: .buildwebvig/annotation/Annotation_Resources.Rmd
|
| | 0%
|
| | 1%
|
|. | 1%
|
|. | 2%
|
|.. | 3%
|
|... | 4%
|
|... | 5%
|
|.... | 6%
|
|..... | 7%
|
|..... | 8%
|
|...... | 9%
|
|...... | 10%
|
|....... | 10%
|
|....... | 11%
|
|........ | 12%
|
|........ | 13%
|
|......... | 13%
|
|......... | 14%
|
|.......... | 15%
|
|.......... | 16%
|
|........... | 17%
|
|............ | 18%
|
|............ | 19%
|
|............. | 20%
|
|.............. | 21%
|
|.............. | 22%
|
|............... | 22%
|
|............... | 23%
|
|............... | 24%
|
|................ | 24%
|
|................ | 25%
|
|................. | 26%
|
|................. | 27%
|
|.................. | 27%
|
|.................. | 28%
|
|................... | 29%
|
|.................... | 30%
|
|.................... | 31%
|
|..................... | 32%
|
|..................... | 33%
|
|...................... | 34%
|
|....................... | 35%
|
|....................... | 36%
|
|........................ | 36%
|
|........................ | 37%
|
|......................... | 38%
|
|......................... | 39%
|
|.......................... | 40%
|
|.......................... | 41%
|
|........................... | 41%
|
|........................... | 42%
|
|............................ | 43%
|
|............................. | 44%
|
|............................. | 45%
|
|.............................. | 45%
|
|.............................. | 46%
|
|.............................. | 47%
|
|............................... | 48%
|
|................................ | 49%
|
|................................ | 50%
|
|................................. | 50%
|
|................................. | 51%
|
|.................................. | 52%
|
|................................... | 53%
|
|................................... | 54%
|
|................................... | 55%
|
|.................................... | 55%
|
|.................................... | 56%
|
|..................................... | 57%
|
|...................................... | 58%
|
|...................................... | 59%
|
|....................................... | 59%
|
|....................................... | 60%
|
|........................................ | 61%
|
|........................................ | 62%
|
|......................................... | 63%
|
|......................................... | 64%
|
|.......................................... | 64%
|
|.......................................... | 65%
|
|........................................... | 66%
|
|............................................ | 67%
|
|............................................ | 68%
|
|............................................. | 69%
|
|............................................. | 70%
|
|.............................................. | 71%
|
|............................................... | 72%
|
|............................................... | 73%
|
|................................................ | 73%
|
|................................................ | 74%
|
|................................................. | 75%
|
|................................................. | 76%
|
|.................................................. | 76%
|
|.................................................. | 77%
|
|.................................................. | 78%
|
|................................................... | 78%
|
|................................................... | 79%
|
|.................................................... | 80%
|
|..................................................... | 81%
|
|..................................................... | 82%
|
|...................................................... | 83%
|
|....................................................... | 84%
|
|....................................................... | 85%
|
|........................................................ | 86%
|
|........................................................ | 87%
|
|......................................................... | 87%
|
|......................................................... | 88%
|
|.......................................................... | 89%
|
|.......................................................... | 90%
|
|........................................................... | 90%
|
|........................................................... | 91%
|
|............................................................ | 92%
|
|............................................................ | 93%
|
|............................................................. | 94%
|
|.............................................................. | 95%
|
|.............................................................. | 96%
|
|............................................................... | 97%
|
|................................................................ | 98%
|
|................................................................ | 99%
|
|.................................................................| 99%
|
|.................................................................| 100%
output file: .buildwebvig/annotation/Annotation_Resources.R
[1] ".buildwebvig/annotation/Annotation_Resources.R"
>
>