| Back to Workflows build report for BioC 3.8 |
This page was generated on 2018-05-18 09:51:45 -0400 (Fri, 18 May 2018).
| Package 8/21 | Hostname | OS / Arch | INSTALL | BUILD | ||||||
| ExpressionNormalizationWorkflow 1.5.0 Karthikeyan Murugesan
| malbec1 | Linux (Ubuntu 16.04.1 LTS) / x86_64 | OK | OK |
| Package: ExpressionNormalizationWorkflow |
| Version: 1.5.0 |
| Command: /home/biocbuild/bbs-3.8-bioc/R/bin/R -q -e 'rmarkdown::render(".buildwebvig/ExpressionNormalizationWorkflow/genExpNrm.Rmd", output_format="BiocStyle:::html_fragment")' && /home/biocbuild/bbs-3.8-bioc/R/bin/R -q -e 'knitr::purl(".buildwebvig/ExpressionNormalizationWorkflow/genExpNrm.Rmd", ".buildwebvig/ExpressionNormalizationWorkflow/genExpNrm.R")' |
| StartedAt: 2018-05-18 08:43:42 -0400 (Fri, 18 May 2018) |
| EndedAt: 2018-05-18 08:55:34 -0400 (Fri, 18 May 2018) |
| EllapsedTime: 712.0 seconds |
| RetCode: 0 |
| Status: OK |
##############################################################################
##############################################################################
###
### Running command:
###
### /home/biocbuild/bbs-3.8-bioc/R/bin/R -q -e 'rmarkdown::render(".buildwebvig/ExpressionNormalizationWorkflow/genExpNrm.Rmd", output_format="BiocStyle:::html_fragment")' && /home/biocbuild/bbs-3.8-bioc/R/bin/R -q -e 'knitr::purl(".buildwebvig/ExpressionNormalizationWorkflow/genExpNrm.Rmd", ".buildwebvig/ExpressionNormalizationWorkflow/genExpNrm.R")'
###
##############################################################################
##############################################################################
> rmarkdown::render(".buildwebvig/ExpressionNormalizationWorkflow/genExpNrm.Rmd", output_format="BiocStyle:::html_fragment")
processing file: genExpNrm.Rmd
|
| | 0%
|
|.. | 3%
inline R code fragments
|
|..... | 6%
label: unnamed-chunk-1 (with options)
List of 2
$ eval: logi TRUE
$ echo: logi FALSE
|
|....... | 10%
ordinary text without R code
|
|......... | 13%
label: unnamed-chunk-2 (with options)
List of 2
$ eval: logi FALSE
$ echo: logi TRUE
|
|........... | 16%
ordinary text without R code
|
|.............. | 19%
label: unnamed-chunk-3 (with options)
List of 2
$ eval: logi TRUE
$ echo: logi FALSE
|
|................ | 23%
ordinary text without R code
|
|.................. | 26%
label: unnamed-chunk-4 (with options)
List of 1
$ eval: logi TRUE
|
|.................... | 29%
ordinary text without R code
|
|....................... | 32%
label: unnamed-chunk-5 (with options)
List of 1
$ eval: logi TRUE
|
|......................... | 35%
ordinary text without R code
|
|........................... | 39%
label: unnamed-chunk-6 (with options)
List of 1
$ eval: logi TRUE
|
|............................. | 42%
ordinary text without R code
|
|................................ | 45%
label: unnamed-chunk-7 (with options)
List of 1
$ eval: logi TRUE
|
|.................................. | 48%
ordinary text without R code
|
|.................................... | 52%
label: unnamed-chunk-8 (with options)
List of 1
$ eval: logi TRUE
|
|...................................... | 55%
ordinary text without R code
|
|......................................... | 58%
label: unnamed-chunk-9 (with options)
List of 1
$ eval: logi TRUE
|
|........................................... | 61%
ordinary text without R code
|
|............................................. | 65%
label: unnamed-chunk-10 (with options)
List of 1
$ eval: logi TRUE
|
|............................................... | 68%
ordinary text without R code
|
|.................................................. | 71%
label: unnamed-chunk-11 (with options)
List of 1
$ eval: logi TRUE
|
|.................................................... | 74%
ordinary text without R code
|
|...................................................... | 77%
label: unnamed-chunk-12 (with options)
List of 2
$ eval: logi FALSE
$ echo: logi TRUE
|
|........................................................ | 81%
ordinary text without R code
|
|........................................................... | 84%
label: unnamed-chunk-13 (with options)
List of 2
$ eval: logi TRUE
$ echo: logi TRUE
|
|............................................................. | 87%
ordinary text without R code
|
|............................................................... | 90%
label: unnamed-chunk-14 (with options)
List of 1
$ eval: logi TRUE
|
|................................................................. | 94%
ordinary text without R code
|
|.................................................................... | 97%
label: unnamed-chunk-15 (with options)
List of 1
$ eval: logi TRUE
|
|......................................................................| 100%
ordinary text without R code
output file: genExpNrm.knit.md
/usr/bin/pandoc +RTS -K512m -RTS genExpNrm.utf8.md --to html4 --from markdown+autolink_bare_uris+ascii_identifiers+tex_math_single_backslash+smart --output genExpNrm.html --email-obfuscation none --self-contained --wrap preserve --standalone --section-divs --table-of-contents --toc-depth 3 --template /home/biocbuild/bbs-3.8-bioc/R/library/BiocStyle/resources/fragment.html --no-highlight --number-sections --mathjax --variable 'mathjax-url:https://mathjax.rstudio.com/latest/MathJax.js?config=TeX-AMS-MML_HTMLorMML' --filter /usr/bin/pandoc-citeproc
Output created: genExpNrm.html
>
>
> knitr::purl(".buildwebvig/ExpressionNormalizationWorkflow/genExpNrm.Rmd", ".buildwebvig/ExpressionNormalizationWorkflow/genExpNrm.R")
processing file: .buildwebvig/ExpressionNormalizationWorkflow/genExpNrm.Rmd
|
| | 0%
|
|.. | 3%
|
|.... | 6%
|
|...... | 10%
|
|........ | 13%
|
|.......... | 16%
|
|............. | 19%
|
|............... | 23%
|
|................. | 26%
|
|................... | 29%
|
|..................... | 32%
|
|....................... | 35%
|
|......................... | 39%
|
|........................... | 42%
|
|............................. | 45%
|
|............................... | 48%
|
|.................................. | 52%
|
|.................................... | 55%
|
|...................................... | 58%
|
|........................................ | 61%
|
|.......................................... | 65%
|
|............................................ | 68%
|
|.............................................. | 71%
|
|................................................ | 74%
|
|.................................................. | 77%
|
|.................................................... | 81%
|
|....................................................... | 84%
|
|......................................................... | 87%
|
|........................................................... | 90%
|
|............................................................. | 94%
|
|............................................................... | 97%
|
|.................................................................| 100%
output file: .buildwebvig/ExpressionNormalizationWorkflow/genExpNrm.R
[1] ".buildwebvig/ExpressionNormalizationWorkflow/genExpNrm.R"
>
>