| Back to Multiple platform build/check report for BioC 3.8 experimental data |
This page was generated on 2019-04-16 15:26:21 -0400 (Tue, 16 Apr 2019).
| Package 251/360 | Hostname | OS / Arch | INSTALL | BUILD | CHECK | BUILD BIN | ||||||
| PepsNMRData 1.0.0 Manon Martin
| malbec1 | Linux (Ubuntu 16.04.6 LTS) / x86_64 | OK | OK | [ OK ] |
| Package: PepsNMRData |
| Version: 1.0.0 |
| Command: /home/biocbuild/bbs-3.8-bioc/R/bin/R CMD check --install=check:PepsNMRData.install-out.txt --library=/home/biocbuild/bbs-3.8-bioc/R/library --no-vignettes --timings PepsNMRData_1.0.0.tar.gz |
| StartedAt: 2019-04-16 13:58:13 -0400 (Tue, 16 Apr 2019) |
| EndedAt: 2019-04-16 13:58:28 -0400 (Tue, 16 Apr 2019) |
| EllapsedTime: 14.9 seconds |
| RetCode: 0 |
| Status: OK |
| CheckDir: PepsNMRData.Rcheck |
| Warnings: 0 |
##############################################################################
##############################################################################
###
### Running command:
###
### /home/biocbuild/bbs-3.8-bioc/R/bin/R CMD check --install=check:PepsNMRData.install-out.txt --library=/home/biocbuild/bbs-3.8-bioc/R/library --no-vignettes --timings PepsNMRData_1.0.0.tar.gz
###
##############################################################################
##############################################################################
* using log directory ‘/home/biocbuild/bbs-3.8-data-experiment/meat/PepsNMRData.Rcheck’
* using R version 3.5.3 (2019-03-11)
* using platform: x86_64-pc-linux-gnu (64-bit)
* using session charset: UTF-8
* using option ‘--no-vignettes’
* checking for file ‘PepsNMRData/DESCRIPTION’ ... OK
* checking extension type ... Package
* this is package ‘PepsNMRData’ version ‘1.0.0’
* package encoding: UTF-8
* checking package namespace information ... OK
* checking package dependencies ... OK
* checking if this is a source package ... OK
* checking if there is a namespace ... OK
* checking for hidden files and directories ... OK
* checking for portable file names ... OK
* checking for sufficient/correct file permissions ... OK
* checking whether package ‘PepsNMRData’ can be installed ... OK
* checking installed package size ... NOTE
installed size is 57.2Mb
sub-directories of 1Mb or more:
data 47.8Mb
extdata 9.3Mb
* checking package directory ... OK
* checking DESCRIPTION meta-information ... OK
* checking top-level files ... OK
* checking for left-over files ... OK
* checking index information ... OK
* checking package subdirectories ... OK
* checking whether the package can be loaded ... OK
* checking whether the package can be loaded with stated dependencies ... OK
* checking whether the package can be unloaded cleanly ... OK
* checking whether the namespace can be loaded with stated dependencies ... OK
* checking whether the namespace can be unloaded cleanly ... OK
* checking Rd files ... OK
* checking Rd metadata ... OK
* checking Rd cross-references ... OK
* checking for missing documentation entries ... OK
* checking for code/documentation mismatches ... OK
* checking Rd \usage sections ... OK
* checking Rd contents ... OK
* checking for unstated dependencies in examples ... OK
* checking contents of ‘data’ directory ... OK
* checking data for non-ASCII characters ... OK
* checking data for ASCII and uncompressed saves ... OK
* checking examples ... OK
* checking PDF version of manual ... OK
* DONE
Status: 1 NOTE
See
‘/home/biocbuild/bbs-3.8-data-experiment/meat/PepsNMRData.Rcheck/00check.log’
for details.
PepsNMRData.Rcheck/00install.out
############################################################################## ############################################################################## ### ### Running command: ### ### /home/biocbuild/bbs-3.8-bioc/R/bin/R CMD INSTALL PepsNMRData ### ############################################################################## ############################################################################## * installing to library ‘/home/biocbuild/bbs-3.8-bioc/R/library’ * installing *source* package ‘PepsNMRData’ ... ** data *** moving datasets to lazyload DB ** inst ** help *** installing help indices ** building package indices ** testing if installed package can be loaded * DONE (PepsNMRData)
PepsNMRData.Rcheck/PepsNMRData-Ex.timings
| name | user | system | elapsed | |
| Data_HS_sp | 0.400 | 0.028 | 0.554 | |
| Data_HU_sp | 0.572 | 0.052 | 1.208 | |
| FidData_HS | 0.236 | 0.004 | 0.369 | |
| FidData_HU | 0.148 | 0.004 | 0.154 | |
| FidInfo_HS | 0.000 | 0.000 | 0.001 | |
| FidInfo_HS_sp | 0.000 | 0.004 | 0.000 | |
| FidInfo_HU | 0 | 0 | 0 | |
| FidInfo_HU_sp | 0.000 | 0.000 | 0.001 | |
| FinalSpecta_HS | 0.044 | 0.000 | 0.042 | |
| FinalSpecta_HU | 0.004 | 0.000 | 0.004 | |
| Group_HS | 0.000 | 0.000 | 0.001 | |
| Group_HU | 0.000 | 0.000 | 0.001 | |
| PEPSNMRData-package | 0.000 | 0.004 | 0.004 | |
| RawFidData_HS | 0.000 | 0.000 | 0.003 | |