Back to Multiple platform build/check report for BioC 3.8 experimental data |
This page was generated on 2019-04-16 15:26:06 -0400 (Tue, 16 Apr 2019).
Package 190/360 | Hostname | OS / Arch | INSTALL | BUILD | CHECK | BUILD BIN | ||||||
LungCancerLines 0.20.0 Cory Barr
| malbec1 | Linux (Ubuntu 16.04.6 LTS) / x86_64 | OK | [ OK ] | OK | ![]() |
Package: LungCancerLines |
Version: 0.20.0 |
Command: /home/biocbuild/bbs-3.8-bioc/R/bin/R CMD build --keep-empty-dirs --no-resave-data LungCancerLines |
StartedAt: 2019-04-16 12:24:45 -0400 (Tue, 16 Apr 2019) |
EndedAt: 2019-04-16 12:24:49 -0400 (Tue, 16 Apr 2019) |
EllapsedTime: 3.5 seconds |
RetCode: 0 |
Status: OK |
PackageFile: LungCancerLines_0.20.0.tar.gz |
PackageFileSize: 1.608 MiB |
############################################################################## ############################################################################## ### ### Running command: ### ### /home/biocbuild/bbs-3.8-bioc/R/bin/R CMD build --keep-empty-dirs --no-resave-data LungCancerLines ### ############################################################################## ############################################################################## * checking for file ‘LungCancerLines/DESCRIPTION’ ... OK * preparing ‘LungCancerLines’: * checking DESCRIPTION meta-information ... OK * checking for LF line-endings in source and make files and shell scripts * checking for empty or unneeded directories * building ‘LungCancerLines_0.20.0.tar.gz’