| Back to Multiple platform build/check report for BioC 3.8 experimental data |
This page was generated on 2019-04-16 15:26:05 -0400 (Tue, 16 Apr 2019).
| Package 123/360 | Hostname | OS / Arch | INSTALL | BUILD | CHECK | BUILD BIN | ||||||
| FunciSNP.data 1.18.0 Simon G. Coetzee
| malbec1 | Linux (Ubuntu 16.04.6 LTS) / x86_64 | OK | OK | [ OK ] |
| Package: FunciSNP.data |
| Version: 1.18.0 |
| Command: /home/biocbuild/bbs-3.8-bioc/R/bin/R CMD check --install=check:FunciSNP.data.install-out.txt --library=/home/biocbuild/bbs-3.8-bioc/R/library --no-vignettes --timings FunciSNP.data_1.18.0.tar.gz |
| StartedAt: 2019-04-16 13:42:35 -0400 (Tue, 16 Apr 2019) |
| EndedAt: 2019-04-16 13:43:41 -0400 (Tue, 16 Apr 2019) |
| EllapsedTime: 65.8 seconds |
| RetCode: 0 |
| Status: OK |
| CheckDir: FunciSNP.data.Rcheck |
| Warnings: 0 |
##############################################################################
##############################################################################
###
### Running command:
###
### /home/biocbuild/bbs-3.8-bioc/R/bin/R CMD check --install=check:FunciSNP.data.install-out.txt --library=/home/biocbuild/bbs-3.8-bioc/R/library --no-vignettes --timings FunciSNP.data_1.18.0.tar.gz
###
##############################################################################
##############################################################################
* using log directory ‘/home/biocbuild/bbs-3.8-data-experiment/meat/FunciSNP.data.Rcheck’
* using R version 3.5.3 (2019-03-11)
* using platform: x86_64-pc-linux-gnu (64-bit)
* using session charset: UTF-8
* using option ‘--no-vignettes’
* checking for file ‘FunciSNP.data/DESCRIPTION’ ... OK
* checking extension type ... Package
* this is package ‘FunciSNP.data’ version ‘1.18.0’
* checking package namespace information ... OK
* checking package dependencies ... OK
* checking if this is a source package ... OK
* checking if there is a namespace ... OK
* checking for hidden files and directories ... OK
* checking for portable file names ... OK
* checking for sufficient/correct file permissions ... OK
* checking whether package ‘FunciSNP.data’ can be installed ... OK
* checking installed package size ... NOTE
installed size is 5.4Mb
sub-directories of 1Mb or more:
data 3.2Mb
extdata 2.1Mb
* checking package directory ... OK
* checking ‘build’ directory ... OK
* checking DESCRIPTION meta-information ... OK
* checking top-level files ... OK
* checking for left-over files ... OK
* checking index information ... OK
* checking package subdirectories ... OK
* checking whether the package can be loaded ... OK
* checking whether the package can be loaded with stated dependencies ... OK
* checking whether the package can be unloaded cleanly ... OK
* checking whether the namespace can be loaded with stated dependencies ... OK
* checking whether the namespace can be unloaded cleanly ... OK
* checking Rd files ... OK
* checking Rd metadata ... OK
* checking Rd cross-references ... OK
* checking for missing documentation entries ... OK
* checking for code/documentation mismatches ... OK
* checking Rd \usage sections ... OK
* checking Rd contents ... OK
* checking for unstated dependencies in examples ... OK
* checking contents of ‘data’ directory ... OK
* checking data for non-ASCII characters ... OK
* checking data for ASCII and uncompressed saves ... OK
* checking files in ‘vignettes’ ... OK
* checking examples ... OK
* checking for unstated dependencies in vignettes ... OK
* checking package vignettes in ‘inst/doc’ ... OK
* checking running R code from vignettes ... SKIPPED
* checking re-building of vignette outputs ... SKIPPED
* checking PDF version of manual ... OK
* DONE
Status: 1 NOTE
See
‘/home/biocbuild/bbs-3.8-data-experiment/meat/FunciSNP.data.Rcheck/00check.log’
for details.
FunciSNP.data.Rcheck/00install.out
############################################################################## ############################################################################## ### ### Running command: ### ### /home/biocbuild/bbs-3.8-bioc/R/bin/R CMD INSTALL FunciSNP.data ### ############################################################################## ############################################################################## * installing to library ‘/home/biocbuild/bbs-3.8-bioc/R/library’ * installing *source* package ‘FunciSNP.data’ ... ** data *** moving datasets to lazyload DB ** inst ** help *** installing help indices ** building package indices ** installing vignettes ** testing if installed package can be loaded * DONE (FunciSNP.data)
FunciSNP.data.Rcheck/FunciSNP.data-Ex.timings
| name | user | system | elapsed | |
| FunciSNP.builtin.features | 0.068 | 0.000 | 0.069 | |
| lincRNA.hg19.rda | 0.232 | 0.024 | 0.255 | |
| refseqgenes.rda | 0.756 | 0.004 | 0.759 | |