| Back to Multiple platform build/check report for BioC 3.8 experimental data |
This page was generated on 2019-04-16 15:26:16 -0400 (Tue, 16 Apr 2019).
| Package 98/360 | Hostname | OS / Arch | INSTALL | BUILD | CHECK | BUILD BIN | ||||||
| EGSEAdata 1.10.0 Monther Alhamdoosh
| malbec1 | Linux (Ubuntu 16.04.6 LTS) / x86_64 | [ OK ] | OK | OK |
| Package: EGSEAdata |
| Version: 1.10.0 |
| Command: /home/biocbuild/bbs-3.8-bioc/R/bin/R CMD INSTALL EGSEAdata |
| StartedAt: 2019-04-16 12:02:27 -0400 (Tue, 16 Apr 2019) |
| EndedAt: 2019-04-16 12:03:05 -0400 (Tue, 16 Apr 2019) |
| EllapsedTime: 37.7 seconds |
| RetCode: 0 |
| Status: OK |
############################################################################## ############################################################################## ### ### Running command: ### ### /home/biocbuild/bbs-3.8-bioc/R/bin/R CMD INSTALL EGSEAdata ### ############################################################################## ############################################################################## * installing to library ‘/home/biocbuild/bbs-3.8-bioc/R/library’ * installing *source* package ‘EGSEAdata’ ... ** R ** data ** byte-compile and prepare package for lazy loading ** help *** installing help indices ** building package indices ** testing if installed package can be loaded * DONE (EGSEAdata)