| Back to Multiple platform build/check report for BioC 3.8 experimental data |
This page was generated on 2019-04-16 15:26:00 -0400 (Tue, 16 Apr 2019).
| Package 324/360 | Hostname | OS / Arch | INSTALL | BUILD | CHECK | BUILD BIN | ||||||
| stjudem 1.22.0 Joern Toedling
| malbec1 | Linux (Ubuntu 16.04.6 LTS) / x86_64 | OK | OK | [ OK ] |
| Package: stjudem |
| Version: 1.22.0 |
| Command: /home/biocbuild/bbs-3.8-bioc/R/bin/R CMD check --install=check:stjudem.install-out.txt --library=/home/biocbuild/bbs-3.8-bioc/R/library --no-vignettes --timings stjudem_1.22.0.tar.gz |
| StartedAt: 2019-04-16 14:07:22 -0400 (Tue, 16 Apr 2019) |
| EndedAt: 2019-04-16 14:07:44 -0400 (Tue, 16 Apr 2019) |
| EllapsedTime: 21.5 seconds |
| RetCode: 0 |
| Status: OK |
| CheckDir: stjudem.Rcheck |
| Warnings: 0 |
##############################################################################
##############################################################################
###
### Running command:
###
### /home/biocbuild/bbs-3.8-bioc/R/bin/R CMD check --install=check:stjudem.install-out.txt --library=/home/biocbuild/bbs-3.8-bioc/R/library --no-vignettes --timings stjudem_1.22.0.tar.gz
###
##############################################################################
##############################################################################
* using log directory ‘/home/biocbuild/bbs-3.8-data-experiment/meat/stjudem.Rcheck’
* using R version 3.5.3 (2019-03-11)
* using platform: x86_64-pc-linux-gnu (64-bit)
* using session charset: UTF-8
* using option ‘--no-vignettes’
* checking for file ‘stjudem/DESCRIPTION’ ... OK
* this is package ‘stjudem’ version ‘1.22.0’
* checking package namespace information ... OK
* checking package dependencies ... OK
* checking if this is a source package ... OK
* checking if there is a namespace ... OK
* checking for hidden files and directories ... OK
* checking for portable file names ... OK
* checking for sufficient/correct file permissions ... OK
* checking whether package ‘stjudem’ can be installed ... OK
* checking installed package size ... NOTE
installed size is 27.7Mb
sub-directories of 1Mb or more:
data 27.6Mb
* checking package directory ... OK
* checking DESCRIPTION meta-information ... OK
* checking top-level files ... OK
* checking for left-over files ... OK
* checking index information ... OK
* checking package subdirectories ... OK
* checking R files for non-ASCII characters ... OK
* checking R files for syntax errors ... OK
* checking whether the package can be loaded ... OK
* checking whether the package can be loaded with stated dependencies ... OK
* checking whether the package can be unloaded cleanly ... OK
* checking whether the namespace can be loaded with stated dependencies ... OK
* checking whether the namespace can be unloaded cleanly ... OK
* checking dependencies in R code ... OK
* checking S3 generic/method consistency ... OK
* checking replacement functions ... OK
* checking foreign function calls ... OK
* checking R code for possible problems ... NOTE
File ‘stjudem/R/zzz.R’:
.onLoad calls:
packageStartupMessage("Type 'data(stjude)' to load the data set.")
packageStartupMessage("Then type 'summary(stjude)' for an overview of the data structure.")
packageStartupMessage("See package 'macat' for examplary analyses.")
See section ‘Good practice’ in '?.onAttach'.
* checking Rd files ... OK
* checking Rd metadata ... OK
* checking Rd cross-references ... OK
* checking for missing documentation entries ... OK
* checking for code/documentation mismatches ... OK
* checking Rd \usage sections ... OK
* checking Rd contents ... OK
* checking for unstated dependencies in examples ... OK
* checking contents of ‘data’ directory ... OK
* checking data for non-ASCII characters ... OK
* checking data for ASCII and uncompressed saves ... OK
* checking examples ... OK
* checking PDF version of manual ... OK
* DONE
Status: 2 NOTEs
See
‘/home/biocbuild/bbs-3.8-data-experiment/meat/stjudem.Rcheck/00check.log’
for details.
stjudem.Rcheck/00install.out
############################################################################## ############################################################################## ### ### Running command: ### ### /home/biocbuild/bbs-3.8-bioc/R/bin/R CMD INSTALL stjudem ### ############################################################################## ############################################################################## * installing to library ‘/home/biocbuild/bbs-3.8-bioc/R/library’ * installing *source* package ‘stjudem’ ... ** R ** data ** byte-compile and prepare package for lazy loading ** help *** installing help indices ** building package indices ** testing if installed package can be loaded * DONE (stjudem)
stjudem.Rcheck/stjudem-Ex.timings
| name | user | system | elapsed | |
| stjude | 2.640 | 0.016 | 2.658 | |