| Back to Multiple platform build/check report for BioC 3.8 experimental data |
This page was generated on 2019-04-16 15:26:06 -0400 (Tue, 16 Apr 2019).
| Package 249/360 | Hostname | OS / Arch | INSTALL | BUILD | CHECK | BUILD BIN | ||||||
| pd.atdschip.tiling 0.20.0 Kristof De Beuf
| malbec1 | Linux (Ubuntu 16.04.6 LTS) / x86_64 | OK | [ OK ] | WARNINGS |
| Package: pd.atdschip.tiling |
| Version: 0.20.0 |
| Command: /home/biocbuild/bbs-3.8-bioc/R/bin/R CMD build --keep-empty-dirs --no-resave-data pd.atdschip.tiling |
| StartedAt: 2019-04-16 12:24:27 -0400 (Tue, 16 Apr 2019) |
| EndedAt: 2019-04-16 12:26:59 -0400 (Tue, 16 Apr 2019) |
| EllapsedTime: 152.4 seconds |
| RetCode: 0 |
| Status: OK |
| PackageFile: pd.atdschip.tiling_0.20.0.tar.gz |
| PackageFileSize: 134.4 MiB |
############################################################################## ############################################################################## ### ### Running command: ### ### /home/biocbuild/bbs-3.8-bioc/R/bin/R CMD build --keep-empty-dirs --no-resave-data pd.atdschip.tiling ### ############################################################################## ############################################################################## * checking for file ‘pd.atdschip.tiling/DESCRIPTION’ ... OK * preparing ‘pd.atdschip.tiling’: * checking DESCRIPTION meta-information ... OK * checking for LF line-endings in source and make files and shell scripts * checking for empty or unneeded directories * looking to see if a ‘data/datalist’ file should be added * building ‘pd.atdschip.tiling_0.20.0.tar.gz’