| Back to Multiple platform build/check report for BioC 3.8 experimental data | 
This page was generated on 2019-04-16 15:26:18 -0400 (Tue, 16 Apr 2019).
| Package 243/360 | Hostname | OS / Arch | INSTALL | BUILD | CHECK | BUILD BIN | ||||||
| pathprintGEOData 1.12.0 Sokratis Kariotis 
 | malbec1 | Linux (Ubuntu 16.04.6 LTS) / x86_64 | [ OK ] | OK | OK |  | 
| Package: pathprintGEOData | 
| Version: 1.12.0 | 
| Command: /home/biocbuild/bbs-3.8-bioc/R/bin/R CMD INSTALL pathprintGEOData | 
| StartedAt: 2019-04-16 12:01:01 -0400 (Tue, 16 Apr 2019) | 
| EndedAt: 2019-04-16 12:01:07 -0400 (Tue, 16 Apr 2019) | 
| EllapsedTime: 6.2 seconds | 
| RetCode: 0 | 
| Status: OK | 
############################################################################## ############################################################################## ### ### Running command: ### ### /home/biocbuild/bbs-3.8-bioc/R/bin/R CMD INSTALL pathprintGEOData ### ############################################################################## ############################################################################## * installing to library ‘/home/biocbuild/bbs-3.8-bioc/R/library’ * installing *source* package ‘pathprintGEOData’ ... ** data ** inst ** help *** installing help indices ** building package indices ** installing vignettes ** testing if installed package can be loaded * DONE (pathprintGEOData)