| Back to Multiple platform build/check report for BioC 3.8 experimental data | 
This page was generated on 2019-04-16 15:26:02 -0400 (Tue, 16 Apr 2019).
| Package 330/360 | Hostname | OS / Arch | INSTALL | BUILD | CHECK | BUILD BIN | ||||||
| TargetSearchData 1.20.0 Alvaro Cuadros-Inostroza 
 | malbec1 | Linux (Ubuntu 16.04.6 LTS) / x86_64 | OK | [ OK ] | OK |  | 
| Package: TargetSearchData | 
| Version: 1.20.0 | 
| Command: /home/biocbuild/bbs-3.8-bioc/R/bin/R CMD build --keep-empty-dirs --no-resave-data TargetSearchData | 
| StartedAt: 2019-04-16 12:21:09 -0400 (Tue, 16 Apr 2019) | 
| EndedAt: 2019-04-16 12:21:36 -0400 (Tue, 16 Apr 2019) | 
| EllapsedTime: 26.4 seconds | 
| RetCode: 0 | 
| Status: OK | 
| PackageFile: TargetSearchData_1.20.0.tar.gz | 
| PackageFileSize: 29.78 MiB | 
############################################################################## ############################################################################## ### ### Running command: ### ### /home/biocbuild/bbs-3.8-bioc/R/bin/R CMD build --keep-empty-dirs --no-resave-data TargetSearchData ### ############################################################################## ############################################################################## * checking for file ‘TargetSearchData/DESCRIPTION’ ... OK * preparing ‘TargetSearchData’: * checking DESCRIPTION meta-information ... OK * checking for LF line-endings in source and make files and shell scripts * checking for empty or unneeded directories * building ‘TargetSearchData_1.20.0.tar.gz’