| Back to Multiple platform build/check report for BioC 3.8 experimental data | 
This page was generated on 2019-04-16 15:26:15 -0400 (Tue, 16 Apr 2019).
| Package 315/360 | Hostname | OS / Arch | INSTALL | BUILD | CHECK | BUILD BIN | ||||||
| Single.mTEC.Transcriptomes 1.10.0 Alejandro Reyes 
 | malbec1 | Linux (Ubuntu 16.04.6 LTS) / x86_64 | OK | [ OK ] | WARNINGS |  | 
| Package: Single.mTEC.Transcriptomes | 
| Version: 1.10.0 | 
| Command: /home/biocbuild/bbs-3.8-bioc/R/bin/R CMD build --keep-empty-dirs --no-resave-data Single.mTEC.Transcriptomes | 
| StartedAt: 2019-04-16 12:42:48 -0400 (Tue, 16 Apr 2019) | 
| EndedAt: 2019-04-16 12:50:29 -0400 (Tue, 16 Apr 2019) | 
| EllapsedTime: 461.2 seconds | 
| RetCode: 0 | 
| Status: OK | 
| PackageFile: Single.mTEC.Transcriptomes_1.10.0.tar.gz | 
| PackageFileSize: 903.9 MiB | 
############################################################################## ############################################################################## ### ### Running command: ### ### /home/biocbuild/bbs-3.8-bioc/R/bin/R CMD build --keep-empty-dirs --no-resave-data Single.mTEC.Transcriptomes ### ############################################################################## ############################################################################## * checking for file ‘Single.mTEC.Transcriptomes/DESCRIPTION’ ... OK * preparing ‘Single.mTEC.Transcriptomes’: * checking DESCRIPTION meta-information ... OK * installing the package to build vignettes * creating vignettes ... OK * checking for LF line-endings in source and make files and shell scripts * checking for empty or unneeded directories * looking to see if a ‘data/datalist’ file should be added * building ‘Single.mTEC.Transcriptomes_1.10.0.tar.gz’