| Back to Multiple platform build/check report for BioC 3.8 experimental data |
This page was generated on 2019-04-16 15:26:06 -0400 (Tue, 16 Apr 2019).
| Package 181/360 | Hostname | OS / Arch | INSTALL | BUILD | CHECK | BUILD BIN | ||||||
| KEGGdzPathwaysGEO 1.20.0 Gaurav Bhatti
| malbec1 | Linux (Ubuntu 16.04.6 LTS) / x86_64 | OK | OK | [ OK ] |
| Package: KEGGdzPathwaysGEO |
| Version: 1.20.0 |
| Command: /home/biocbuild/bbs-3.8-bioc/R/bin/R CMD check --install=check:KEGGdzPathwaysGEO.install-out.txt --library=/home/biocbuild/bbs-3.8-bioc/R/library --no-vignettes --timings KEGGdzPathwaysGEO_1.20.0.tar.gz |
| StartedAt: 2019-04-16 13:49:29 -0400 (Tue, 16 Apr 2019) |
| EndedAt: 2019-04-16 13:54:59 -0400 (Tue, 16 Apr 2019) |
| EllapsedTime: 329.4 seconds |
| RetCode: 0 |
| Status: OK |
| CheckDir: KEGGdzPathwaysGEO.Rcheck |
| Warnings: 0 |
##############################################################################
##############################################################################
###
### Running command:
###
### /home/biocbuild/bbs-3.8-bioc/R/bin/R CMD check --install=check:KEGGdzPathwaysGEO.install-out.txt --library=/home/biocbuild/bbs-3.8-bioc/R/library --no-vignettes --timings KEGGdzPathwaysGEO_1.20.0.tar.gz
###
##############################################################################
##############################################################################
* using log directory ‘/home/biocbuild/bbs-3.8-data-experiment/meat/KEGGdzPathwaysGEO.Rcheck’
* using R version 3.5.3 (2019-03-11)
* using platform: x86_64-pc-linux-gnu (64-bit)
* using session charset: UTF-8
* using option ‘--no-vignettes’
* checking for file ‘KEGGdzPathwaysGEO/DESCRIPTION’ ... OK
* checking extension type ... Package
* this is package ‘KEGGdzPathwaysGEO’ version ‘1.20.0’
* checking package namespace information ... OK
* checking package dependencies ... OK
* checking if this is a source package ... OK
* checking if there is a namespace ... OK
* checking for hidden files and directories ... OK
* checking for portable file names ... OK
* checking for sufficient/correct file permissions ... OK
* checking whether package ‘KEGGdzPathwaysGEO’ can be installed ... OK
* checking installed package size ... NOTE
installed size is 300.7Mb
sub-directories of 1Mb or more:
data 300.6Mb
* checking package directory ... OK
* checking DESCRIPTION meta-information ... OK
* checking top-level files ... OK
* checking for left-over files ... OK
* checking index information ... OK
* checking package subdirectories ... OK
* checking R files for non-ASCII characters ... OK
* checking R files for syntax errors ... OK
* checking whether the package can be loaded ... OK
* checking whether the package can be loaded with stated dependencies ... OK
* checking whether the package can be unloaded cleanly ... OK
* checking whether the namespace can be loaded with stated dependencies ... OK
* checking whether the namespace can be unloaded cleanly ... OK
* checking dependencies in R code ... NOTE
Namespaces in Imports field not imported from:
‘Biobase’ ‘BiocGenerics’
All declared Imports should be used.
* checking S3 generic/method consistency ... OK
* checking replacement functions ... OK
* checking foreign function calls ... OK
* checking R code for possible problems ... OK
* checking Rd files ... OK
* checking Rd metadata ... OK
* checking Rd cross-references ... OK
* checking for missing documentation entries ... OK
* checking for code/documentation mismatches ... OK
* checking Rd \usage sections ... OK
* checking Rd contents ... OK
* checking for unstated dependencies in examples ... OK
* checking contents of ‘data’ directory ... OK
* checking data for non-ASCII characters ... OK
* checking data for ASCII and uncompressed saves ... OK
* checking examples ... OK
* checking PDF version of manual ... OK
* DONE
Status: 2 NOTEs
See
‘/home/biocbuild/bbs-3.8-data-experiment/meat/KEGGdzPathwaysGEO.Rcheck/00check.log’
for details.
KEGGdzPathwaysGEO.Rcheck/00install.out
############################################################################## ############################################################################## ### ### Running command: ### ### /home/biocbuild/bbs-3.8-bioc/R/bin/R CMD INSTALL KEGGdzPathwaysGEO ### ############################################################################## ############################################################################## * installing to library ‘/home/biocbuild/bbs-3.8-bioc/R/library’ * installing *source* package ‘KEGGdzPathwaysGEO’ ... ** R ** data ** byte-compile and prepare package for lazy loading ** help *** installing help indices ** building package indices ** testing if installed package can be loaded * DONE (KEGGdzPathwaysGEO)
KEGGdzPathwaysGEO.Rcheck/KEGGdzPathwaysGEO-Ex.timings
| name | user | system | elapsed | |
| GSE1297 | 0.072 | 0.012 | 0.157 | |
| GSE14762 | 0.144 | 0.016 | 0.376 | |
| GSE15471 | 0.388 | 0.024 | 0.706 | |
| GSE16515 | 0.176 | 0.020 | 0.208 | |
| GSE18842 | 0.408 | 0.028 | 0.576 | |
| GSE19188 | 0.680 | 0.060 | 0.797 | |
| GSE19728 | 0.152 | 0.016 | 0.179 | |
| GSE20153 | 0.128 | 0.000 | 0.136 | |
| GSE20291 | 0.076 | 0.008 | 0.102 | |
| GSE21354 | 0.124 | 0.000 | 0.127 | |
| GSE3467 | 0.124 | 0.000 | 0.128 | |
| GSE3585 | 0.056 | 0.000 | 0.078 | |
| GSE3678 | 0.108 | 0.004 | 0.150 | |
| GSE4107 | 0.148 | 0.000 | 0.206 | |
| GSE5281_EC | 0.136 | 0.004 | 0.154 | |
| GSE5281_HIP | 0.196 | 0.012 | 0.648 | |
| GSE5281_VCX | 0.208 | 0.008 | 0.233 | |
| GSE6956AA | 0.060 | 0.000 | 0.108 | |
| GSE6956C | 0.116 | 0.004 | 0.147 | |
| GSE781 | 0.060 | 0.008 | 0.072 | |
| GSE8671 | 0.368 | 0.008 | 0.405 | |
| GSE8762 | 0.204 | 0.008 | 0.279 | |
| GSE9348 | 0.468 | 0.032 | 0.539 | |
| GSE9476 | 0.144 | 0.004 | 0.258 | |
| KEGGdzPathwaysGEO-package | 0.372 | 0.000 | 0.400 | |