| Back to Multiple platform build/check report for BioC 3.8 experimental data |
This page was generated on 2019-04-16 15:26:20 -0400 (Tue, 16 Apr 2019).
| Package 154/360 | Hostname | OS / Arch | INSTALL | BUILD | CHECK | BUILD BIN | ||||||
| HDCytoData 1.2.11 Lukas M. Weber
| malbec1 | Linux (Ubuntu 16.04.6 LTS) / x86_64 | OK | OK | [ OK ] |
| Package: HDCytoData |
| Version: 1.2.11 |
| Command: /home/biocbuild/bbs-3.8-bioc/R/bin/R CMD check --install=check:HDCytoData.install-out.txt --library=/home/biocbuild/bbs-3.8-bioc/R/library --no-vignettes --timings HDCytoData_1.2.11.tar.gz |
| StartedAt: 2019-04-16 13:46:29 -0400 (Tue, 16 Apr 2019) |
| EndedAt: 2019-04-16 13:48:36 -0400 (Tue, 16 Apr 2019) |
| EllapsedTime: 127.0 seconds |
| RetCode: 0 |
| Status: OK |
| CheckDir: HDCytoData.Rcheck |
| Warnings: 0 |
##############################################################################
##############################################################################
###
### Running command:
###
### /home/biocbuild/bbs-3.8-bioc/R/bin/R CMD check --install=check:HDCytoData.install-out.txt --library=/home/biocbuild/bbs-3.8-bioc/R/library --no-vignettes --timings HDCytoData_1.2.11.tar.gz
###
##############################################################################
##############################################################################
* using log directory ‘/home/biocbuild/bbs-3.8-data-experiment/meat/HDCytoData.Rcheck’
* using R version 3.5.3 (2019-03-11)
* using platform: x86_64-pc-linux-gnu (64-bit)
* using session charset: UTF-8
* using option ‘--no-vignettes’
* checking for file ‘HDCytoData/DESCRIPTION’ ... OK
* this is package ‘HDCytoData’ version ‘1.2.11’
* checking package namespace information ... OK
* checking package dependencies ... OK
* checking if this is a source package ... OK
* checking if there is a namespace ... OK
* checking for hidden files and directories ... OK
* checking for portable file names ... OK
* checking for sufficient/correct file permissions ... OK
* checking whether package ‘HDCytoData’ can be installed ... OK
* checking installed package size ... OK
* checking package directory ... OK
* checking ‘build’ directory ... OK
* checking DESCRIPTION meta-information ... OK
* checking top-level files ... OK
* checking for left-over files ... OK
* checking index information ... OK
* checking package subdirectories ... OK
* checking R files for non-ASCII characters ... OK
* checking R files for syntax errors ... OK
* checking whether the package can be loaded ... OK
* checking whether the package can be loaded with stated dependencies ... OK
* checking whether the package can be unloaded cleanly ... OK
* checking whether the namespace can be loaded with stated dependencies ... OK
* checking whether the namespace can be unloaded cleanly ... OK
* checking dependencies in R code ... OK
* checking S3 generic/method consistency ... OK
* checking replacement functions ... OK
* checking foreign function calls ... OK
* checking R code for possible problems ... NOTE
Bodenmiller_BCR_XL_SE: no visible binding for global variable ‘d_SE’
Bodenmiller_BCR_XL_flowSet: no visible binding for global variable
‘d_flowSet’
Undefined global functions or variables:
d_SE d_flowSet
* checking Rd files ... OK
* checking Rd metadata ... OK
* checking Rd cross-references ... OK
* checking for missing documentation entries ... OK
* checking for code/documentation mismatches ... OK
* checking Rd \usage sections ... OK
* checking Rd contents ... OK
* checking for unstated dependencies in examples ... OK
* checking files in ‘vignettes’ ... OK
* checking examples ... OK
Examples with CPU or elapsed time > 5s
user system elapsed
Bodenmiller_BCR_XL_SE 2.06 0.176 5.757
* checking for unstated dependencies in vignettes ... OK
* checking package vignettes in ‘inst/doc’ ... OK
* checking running R code from vignettes ... SKIPPED
* checking re-building of vignette outputs ... SKIPPED
* checking PDF version of manual ... OK
* DONE
Status: 1 NOTE
See
‘/home/biocbuild/bbs-3.8-data-experiment/meat/HDCytoData.Rcheck/00check.log’
for details.
HDCytoData.Rcheck/00install.out
############################################################################## ############################################################################## ### ### Running command: ### ### /home/biocbuild/bbs-3.8-bioc/R/bin/R CMD INSTALL HDCytoData ### ############################################################################## ############################################################################## * installing to library ‘/home/biocbuild/bbs-3.8-bioc/R/library’ * installing *source* package ‘HDCytoData’ ... ** R ** inst ** byte-compile and prepare package for lazy loading ** help *** installing help indices ** building package indices ** installing vignettes ** testing if installed package can be loaded * DONE (HDCytoData)
HDCytoData.Rcheck/HDCytoData-Ex.timings
| name | user | system | elapsed | |
| Bodenmiller_BCR_XL_SE | 2.060 | 0.176 | 5.757 | |
| Krieg_Anti_PD_1_SE | 0.004 | 0.000 | 0.001 | |
| Levine_13dim_SE | 0.000 | 0.000 | 0.001 | |
| Levine_32dim_SE | 0.000 | 0.004 | 0.001 | |
| Mosmann_rare_SE | 0.000 | 0.000 | 0.001 | |
| Nilsson_rare_SE | 0.000 | 0.000 | 0.001 | |
| Samusik_01_SE | 0.000 | 0.000 | 0.001 | |
| Samusik_all_SE | 0 | 0 | 0 | |