| Back to Multiple platform build/check report for BioC 3.8 experimental data | 
This page was generated on 2019-04-16 15:26:04 -0400 (Tue, 16 Apr 2019).
| Package 24/360 | Hostname | OS / Arch | INSTALL | BUILD | CHECK | BUILD BIN | ||||||
| BeadArrayUseCases 1.20.0 Mike Smith 
 | malbec1 | Linux (Ubuntu 16.04.6 LTS) / x86_64 | [ OK ] | OK | WARNINGS |  | 
| Package: BeadArrayUseCases | 
| Version: 1.20.0 | 
| Command: /home/biocbuild/bbs-3.8-bioc/R/bin/R CMD INSTALL BeadArrayUseCases | 
| StartedAt: 2019-04-16 12:10:41 -0400 (Tue, 16 Apr 2019) | 
| EndedAt: 2019-04-16 12:10:56 -0400 (Tue, 16 Apr 2019) | 
| EllapsedTime: 14.3 seconds | 
| RetCode: 0 | 
| Status: OK | 
############################################################################## ############################################################################## ### ### Running command: ### ### /home/biocbuild/bbs-3.8-bioc/R/bin/R CMD INSTALL BeadArrayUseCases ### ############################################################################## ############################################################################## * installing to library ‘/home/biocbuild/bbs-3.8-bioc/R/library’ * installing *source* package ‘BeadArrayUseCases’ ... ** inst ** help No man pages found in package ‘BeadArrayUseCases’ *** installing help indices ** building package indices ** installing vignettes ** testing if installed package can be loaded Warning: replacing previous import ‘beadarray::imageplot’ by ‘limma::imageplot’ when loading ‘BeadArrayUseCases’ * DONE (BeadArrayUseCases)