Back to Multiple platform build/check report for BioC 3.8 |
|
This page was generated on 2019-04-13 11:20:34 -0400 (Sat, 13 Apr 2019).
Package 1645/1649 | Hostname | OS / Arch | INSTALL | BUILD | CHECK | BUILD BIN | ||||||
yaqcaffy 1.42.0 Laurent Gatto
| malbec1 | Linux (Ubuntu 16.04.6 LTS) / x86_64 | OK | OK | NA | |||||||
tokay1 | Windows Server 2012 R2 Standard / x64 | OK | OK | OK | [ OK ] | ![]() | ||||||
merida1 | OS X 10.11.6 El Capitan / x86_64 | OK | OK | OK | OK | ![]() |
Package: yaqcaffy |
Version: 1.42.0 |
Command: rm -rf yaqcaffy.buildbin-libdir && mkdir yaqcaffy.buildbin-libdir && C:\Users\biocbuild\bbs-3.8-bioc\R\bin\R.exe CMD INSTALL --merge-multiarch --build --library=yaqcaffy.buildbin-libdir yaqcaffy_1.42.0.tar.gz |
StartedAt: 2019-04-13 08:04:25 -0400 (Sat, 13 Apr 2019) |
EndedAt: 2019-04-13 08:04:46 -0400 (Sat, 13 Apr 2019) |
EllapsedTime: 20.7 seconds |
RetCode: 0 |
Status: OK |
PackageFile: yaqcaffy_1.42.0.zip |
PackageFileSize: 648.7 KiB |
############################################################################## ############################################################################## ### ### Running command: ### ### rm -rf yaqcaffy.buildbin-libdir && mkdir yaqcaffy.buildbin-libdir && C:\Users\biocbuild\bbs-3.8-bioc\R\bin\R.exe CMD INSTALL --merge-multiarch --build --library=yaqcaffy.buildbin-libdir yaqcaffy_1.42.0.tar.gz ### ############################################################################## ############################################################################## install for i386 * installing *source* package 'yaqcaffy' ... ** R ** inst ** byte-compile and prepare package for lazy loading Creating a generic function for 'identical' from package 'base' in package 'yaqcaffy' ** help *** installing help indices converting help for package 'yaqcaffy' finding HTML links ... done YAQCStats-class html finding level-2 HTML links ... done YaqcControlProbes-class html getAllInt html getBioProbes html getOutliers html getQCRatios html getRatioProbes html getSpikeProbes html probeSelectionInterface html reprodPlot html yaqc.affy html yaqc.plot html ** building package indices ** installing vignettes ** testing if installed package can be loaded In R CMD INSTALL install for x64 * installing *source* package 'yaqcaffy' ... ** testing if installed package can be loaded * MD5 sums packaged installation of 'yaqcaffy' as yaqcaffy_1.42.0.zip * DONE (yaqcaffy) In R CMD INSTALL In R CMD INSTALL