| Back to Multiple platform build/check report for BioC 3.8 | 
 | 
This page was generated on 2019-04-16 11:54:16 -0400 (Tue, 16 Apr 2019).
| Package 1637/1649 | Hostname | OS / Arch | INSTALL | BUILD | CHECK | BUILD BIN | ||||||
| xcms 3.4.4 Steffen Neumann 
 | malbec1 | Linux (Ubuntu 16.04.6 LTS) / x86_64 | OK | OK | OK |  | ||||||
| merida1 | OS X 10.11.6 El Capitan / x86_64 | OK | [ OK ] | OK | OK |  | 
| Package: xcms | 
| Version: 3.4.4 | 
| Command: /Library/Frameworks/R.framework/Versions/Current/Resources/bin/R CMD build --keep-empty-dirs --no-resave-data xcms | 
| StartedAt: 2019-04-15 18:57:32 -0400 (Mon, 15 Apr 2019) | 
| EndedAt: 2019-04-15 19:02:04 -0400 (Mon, 15 Apr 2019) | 
| EllapsedTime: 271.8 seconds | 
| RetCode: 0 | 
| Status: OK | 
| PackageFile: xcms_3.4.4.tar.gz | 
| PackageFileSize: 5.946 MiB | 
##############################################################################
##############################################################################
###
### Running command:
###
###   /Library/Frameworks/R.framework/Versions/Current/Resources/bin/R CMD build --keep-empty-dirs --no-resave-data xcms
###
##############################################################################
##############################################################################
* checking for file ‘xcms/DESCRIPTION’ ... OK
* preparing ‘xcms’:
* checking DESCRIPTION meta-information ... OK
* cleaning src
* installing the package to build vignettes
* creating vignettes ... OK
Warning: ‘inst/doc’ files
    ‘xcms-direct-injection.R’, ‘xcmsMSn.R’
  ignored as vignettes have been rebuilt.
  Run R CMD build with --no-build-vignettes to prevent rebuilding.
* cleaning src
* checking for LF line-endings in source and make files and shell scripts
* checking for empty or unneeded directories
* building ‘xcms_3.4.4.tar.gz’