| Back to Multiple platform build/check report for BioC 3.8 |
|
This page was generated on 2019-04-16 11:56:04 -0400 (Tue, 16 Apr 2019).
| Package 1631/1649 | Hostname | OS / Arch | INSTALL | BUILD | CHECK | BUILD BIN | ||||||
| weaver 1.48.0 Seth Falcon
| malbec1 | Linux (Ubuntu 16.04.6 LTS) / x86_64 | OK | OK | WARNINGS | |||||||
| merida1 | OS X 10.11.6 El Capitan / x86_64 | OK | OK | WARNINGS | [ OK ] |
| Package: weaver |
| Version: 1.48.0 |
| Command: rm -rf weaver.buildbin-libdir && mkdir weaver.buildbin-libdir && /Users/biocbuild/BBS/utils/build-universal.sh weaver_1.48.0.tar.gz /Library/Frameworks/R.framework/Versions/Current/Resources/bin/R weaver.buildbin-libdir |
| StartedAt: 2019-04-16 04:54:00 -0400 (Tue, 16 Apr 2019) |
| EndedAt: 2019-04-16 04:54:42 -0400 (Tue, 16 Apr 2019) |
| EllapsedTime: 42.5 seconds |
| RetCode: 0 |
| Status: OK |
| PackageFile: weaver_1.48.0.tgz |
| PackageFileSize: 194.4 KiB |
############################################################################## ############################################################################## ### ### Running command: ### ### rm -rf weaver.buildbin-libdir && mkdir weaver.buildbin-libdir && /Users/biocbuild/BBS/utils/build-universal.sh weaver_1.48.0.tar.gz /Library/Frameworks/R.framework/Versions/Current/Resources/bin/R weaver.buildbin-libdir ### ############################################################################## ############################################################################## >>>>>>> >>>>>>> INSTALLATION WITH 'R CMD INSTALL --preclean --no-multiarch --library=weaver.buildbin-libdir weaver_1.48.0.tar.gz' >>>>>>> * installing *source* package ‘weaver’ ... ** R ** inst ** byte-compile and prepare package for lazy loading ** help *** installing help indices ** building package indices ** installing vignettes ** testing if installed package can be loaded * DONE (weaver)