| Back to Multiple platform build/check report for BioC 3.8 |
|
This page was generated on 2019-04-16 11:56:29 -0400 (Tue, 16 Apr 2019).
| Package 1586/1649 | Hostname | OS / Arch | INSTALL | BUILD | CHECK | BUILD BIN | ||||||
| triform 1.24.0 Thomas Carroll
| malbec1 | Linux (Ubuntu 16.04.6 LTS) / x86_64 | OK | OK | OK | |||||||
| merida1 | OS X 10.11.6 El Capitan / x86_64 | OK | OK | OK | [ OK ] |
| Package: triform |
| Version: 1.24.0 |
| Command: rm -rf triform.buildbin-libdir && mkdir triform.buildbin-libdir && /Users/biocbuild/BBS/utils/build-universal.sh triform_1.24.0.tar.gz /Library/Frameworks/R.framework/Versions/Current/Resources/bin/R triform.buildbin-libdir |
| StartedAt: 2019-04-16 04:51:59 -0400 (Tue, 16 Apr 2019) |
| EndedAt: 2019-04-16 04:52:46 -0400 (Tue, 16 Apr 2019) |
| EllapsedTime: 47.5 seconds |
| RetCode: 0 |
| Status: OK |
| PackageFile: triform_1.24.0.tgz |
| PackageFileSize: 715.8 KiB |
############################################################################## ############################################################################## ### ### Running command: ### ### rm -rf triform.buildbin-libdir && mkdir triform.buildbin-libdir && /Users/biocbuild/BBS/utils/build-universal.sh triform_1.24.0.tar.gz /Library/Frameworks/R.framework/Versions/Current/Resources/bin/R triform.buildbin-libdir ### ############################################################################## ############################################################################## >>>>>>> >>>>>>> INSTALLATION WITH 'R CMD INSTALL --preclean --no-multiarch --library=triform.buildbin-libdir triform_1.24.0.tar.gz' >>>>>>> * installing *source* package ‘triform’ ... ** R ** inst ** byte-compile and prepare package for lazy loading ** help *** installing help indices ** building package indices ** installing vignettes ** testing if installed package can be loaded * DONE (triform)