| Back to Multiple platform build/check report for BioC 3.8 | 
 | 
This page was generated on 2019-04-16 12:13:41 -0400 (Tue, 16 Apr 2019).
| Package 1579/1649 | Hostname | OS / Arch | INSTALL | BUILD | CHECK | BUILD BIN | ||||||
| transite 1.0.2 Konstantin Krismer 
 | malbec1 | Linux (Ubuntu 16.04.6 LTS) / x86_64 | OK | OK | OK |  | ||||||
| merida1 | OS X 10.11.6 El Capitan / x86_64 | OK | OK | OK | [ OK ] |  | 
| Package: transite | 
| Version: 1.0.2 | 
| Command: rm -rf transite.buildbin-libdir && mkdir transite.buildbin-libdir && /Users/biocbuild/BBS/utils/build-universal.sh transite_1.0.2.tar.gz /Library/Frameworks/R.framework/Versions/Current/Resources/bin/R transite.buildbin-libdir | 
| StartedAt: 2019-04-16 04:51:39 -0400 (Tue, 16 Apr 2019) | 
| EndedAt: 2019-04-16 04:52:27 -0400 (Tue, 16 Apr 2019) | 
| EllapsedTime: 47.3 seconds | 
| RetCode: 0 | 
| Status: OK | 
| PackageFile: transite_1.0.2.tgz | 
| PackageFileSize: 1012 KiB | 
############################################################################## ############################################################################## ### ### Running command: ### ### rm -rf transite.buildbin-libdir && mkdir transite.buildbin-libdir && /Users/biocbuild/BBS/utils/build-universal.sh transite_1.0.2.tar.gz /Library/Frameworks/R.framework/Versions/Current/Resources/bin/R transite.buildbin-libdir ### ############################################################################## ############################################################################## >>>>>>> >>>>>>> INSTALLATION WITH 'R CMD INSTALL --preclean --no-multiarch --library=transite.buildbin-libdir transite_1.0.2.tar.gz' >>>>>>> * installing *source* package ‘transite’ ... ** libs clang++ -std=gnu++11 -I"/Library/Frameworks/R.framework/Resources/include" -DNDEBUG -I"/Library/Frameworks/R.framework/Versions/3.5/Resources/library/Rcpp/include" -I/usr/local/include -fPIC -Wall -g -O2 -c RcppExports.cpp -o RcppExports.o clang++ -std=gnu++11 -I"/Library/Frameworks/R.framework/Resources/include" -DNDEBUG -I"/Library/Frameworks/R.framework/Versions/3.5/Resources/library/Rcpp/include" -I/usr/local/include -fPIC -Wall -g -O2 -c scoring.cpp -o scoring.o clang++ -std=gnu++11 -dynamiclib -Wl,-headerpad_max_install_names -undefined dynamic_lookup -single_module -multiply_defined suppress -L/Library/Frameworks/R.framework/Resources/lib -L/usr/local/lib -o transite.so RcppExports.o scoring.o -F/Library/Frameworks/R.framework/.. -framework R -Wl,-framework -Wl,CoreFoundation installing to /Users/biocbuild/bbs-3.8-bioc/meat/transite.buildbin-libdir/transite/libs ** R ** data ** inst ** byte-compile and prepare package for lazy loading ** help *** installing help indices ** building package indices ** installing vignettes ** testing if installed package can be loaded * DONE (transite) >>>>>>> >>>>>>> FIXING LINKS FOR transite.buildbin-libdir/transite/libs//transite.so >>>>>>> install_name_tool -change "/usr/local/lib/libgcc_s.1.dylib" "/Library/Frameworks/R.framework/Versions/3.5/Resources/lib/libgcc_s.1.dylib" "transite.buildbin-libdir/transite/libs//transite.so" install_name_tool -change "/usr/local/lib/libgfortran.3.dylib" "/Library/Frameworks/R.framework/Versions/3.5/Resources/lib/libgfortran.3.dylib" "transite.buildbin-libdir/transite/libs//transite.so" install_name_tool -change "/usr/local/lib/libreadline.5.2.dylib" "/Library/Frameworks/R.framework/Versions/3.5/Resources/lib/libreadline.5.2.dylib" "transite.buildbin-libdir/transite/libs//transite.so" install_name_tool -change "/usr/local/lib/libreadline.dylib" "/Library/Frameworks/R.framework/Versions/3.5/Resources/lib/libreadline.dylib" "transite.buildbin-libdir/transite/libs//transite.so" install_name_tool -change "/usr/local/lib/libquadmath.0.dylib" "/Library/Frameworks/R.framework/Versions/3.5/Resources/lib/libquadmath.0.dylib" "transite.buildbin-libdir/transite/libs//transite.so"