| Back to Multiple platform build/check report for BioC 3.8 | 
 | 
This page was generated on 2019-04-13 11:28:36 -0400 (Sat, 13 Apr 2019).
| Package 1577/1649 | Hostname | OS / Arch | INSTALL | BUILD | CHECK | BUILD BIN | ||||||
| transcriptogramer 1.4.1 Diego Morais 
 | malbec1 | Linux (Ubuntu 16.04.6 LTS) / x86_64 | OK | OK | NA | |||||||
| tokay1 | Windows Server 2012 R2 Standard / x64 | [ OK ] | OK | OK | OK |  | ||||||
| merida1 | OS X 10.11.6 El Capitan / x86_64 | OK | OK | OK | OK |  | 
| Package: transcriptogramer | 
| Version: 1.4.1 | 
| Command: C:\cygwin\bin\curl.exe -O https://malbec1.bioconductor.org/BBS/3.8/bioc/src/contrib/transcriptogramer_1.4.1.tar.gz && rm -rf transcriptogramer.buildbin-libdir && mkdir transcriptogramer.buildbin-libdir && C:\Users\biocbuild\bbs-3.8-bioc\R\bin\R.exe CMD INSTALL --merge-multiarch --build --library=transcriptogramer.buildbin-libdir transcriptogramer_1.4.1.tar.gz && C:\Users\biocbuild\bbs-3.8-bioc\R\bin\R.exe CMD INSTALL transcriptogramer_1.4.1.zip && rm transcriptogramer_1.4.1.tar.gz transcriptogramer_1.4.1.zip | 
| StartedAt: 2019-04-12 19:31:34 -0400 (Fri, 12 Apr 2019) | 
| EndedAt: 2019-04-12 19:32:44 -0400 (Fri, 12 Apr 2019) | 
| EllapsedTime: 70.0 seconds | 
| RetCode: 0 | 
| Status: OK | 
##############################################################################
##############################################################################
###
### Running command:
###
###   C:\cygwin\bin\curl.exe -O https://malbec1.bioconductor.org/BBS/3.8/bioc/src/contrib/transcriptogramer_1.4.1.tar.gz && rm -rf transcriptogramer.buildbin-libdir && mkdir transcriptogramer.buildbin-libdir && C:\Users\biocbuild\bbs-3.8-bioc\R\bin\R.exe CMD INSTALL --merge-multiarch --build --library=transcriptogramer.buildbin-libdir transcriptogramer_1.4.1.tar.gz && C:\Users\biocbuild\bbs-3.8-bioc\R\bin\R.exe CMD INSTALL transcriptogramer_1.4.1.zip && rm transcriptogramer_1.4.1.tar.gz transcriptogramer_1.4.1.zip
###
##############################################################################
##############################################################################
  % Total    % Received % Xferd  Average Speed   Time    Time     Time  Current
                                 Dload  Upload   Total   Spent    Left  Speed
  0     0    0     0    0     0      0      0 --:--:-- --:--:-- --:--:--     0
100 3462k  100 3462k    0     0  35.0M      0 --:--:-- --:--:-- --:--:-- 36.3M
install for i386
* installing *source* package 'transcriptogramer' ...
** R
** data
*** moving datasets to lazyload DB
** inst
** byte-compile and prepare package for lazy loading
** help
*** installing help indices
  converting help for package 'transcriptogramer'
    finding HTML links ... done
    DE-method                               html  
    DEsymbols                               html  
    GPL570                                  html  
    GSE9988                                 html  
    Hs700                                   html  
    Hs800                                   html  
    Hs900                                   html  
    HsBPTerms                               html  
    Mm700                                   html  
    Mm800                                   html  
    Mm900                                   html  
    Rn700                                   html  
    Rn800                                   html  
    Rn900                                   html  
    Sc700                                   html  
    Sc800                                   html  
    Sc900                                   html  
    Terms-method                            html  
    Transcriptogram-class                   html  
    association                             html  
    clusterEnrichment-method                html  
    clusterVisualization-method             html  
    connectivityProperties-method           html  
    differentiallyExpressed-method          html  
    enrichmentPlot-method                   html  
    orderingProperties-method               html  
    radius-method                           html  
    transcriptogramPreprocess               html  
    transcriptogramStep1-method             html  
    transcriptogramStep2-method             html  
    transcriptogramer-package               html  
** building package indices
** installing vignettes
** testing if installed package can be loaded
In R CMD INSTALL
install for x64
* installing *source* package 'transcriptogramer' ...
** testing if installed package can be loaded
* MD5 sums
packaged installation of 'transcriptogramer' as transcriptogramer_1.4.1.zip
* DONE (transcriptogramer)
In R CMD INSTALL
In R CMD INSTALL
* installing to library 'C:/Users/biocbuild/bbs-3.8-bioc/R/library'
package 'transcriptogramer' successfully unpacked and MD5 sums checked
In R CMD INSTALL