| Back to Multiple platform build/check report for BioC 3.8 |
|
This page was generated on 2019-04-16 11:50:22 -0400 (Tue, 16 Apr 2019).
| Package 1576/1649 | Hostname | OS / Arch | INSTALL | BUILD | CHECK | BUILD BIN | ||||||
| trackViewer 1.18.3 Jianhong Ou
| malbec1 | Linux (Ubuntu 16.04.6 LTS) / x86_64 | OK | OK | [ OK ] | |||||||
| merida1 | OS X 10.11.6 El Capitan / x86_64 | OK | OK | OK | OK |
| Package: trackViewer |
| Version: 1.18.3 |
| Command: /home/biocbuild/bbs-3.8-bioc/R/bin/R CMD check --install=check:trackViewer.install-out.txt --library=/home/biocbuild/bbs-3.8-bioc/R/library --no-vignettes --timings trackViewer_1.18.3.tar.gz |
| StartedAt: 2019-04-16 03:28:36 -0400 (Tue, 16 Apr 2019) |
| EndedAt: 2019-04-16 03:35:17 -0400 (Tue, 16 Apr 2019) |
| EllapsedTime: 401.5 seconds |
| RetCode: 0 |
| Status: OK |
| CheckDir: trackViewer.Rcheck |
| Warnings: 0 |
##############################################################################
##############################################################################
###
### Running command:
###
### /home/biocbuild/bbs-3.8-bioc/R/bin/R CMD check --install=check:trackViewer.install-out.txt --library=/home/biocbuild/bbs-3.8-bioc/R/library --no-vignettes --timings trackViewer_1.18.3.tar.gz
###
##############################################################################
##############################################################################
* using log directory ‘/home/biocbuild/bbs-3.8-bioc/meat/trackViewer.Rcheck’
* using R version 3.5.3 (2019-03-11)
* using platform: x86_64-pc-linux-gnu (64-bit)
* using session charset: UTF-8
* using option ‘--no-vignettes’
* checking for file ‘trackViewer/DESCRIPTION’ ... OK
* checking extension type ... Package
* this is package ‘trackViewer’ version ‘1.18.3’
* package encoding: UTF-8
* checking package namespace information ... OK
* checking package dependencies ... OK
* checking if this is a source package ... OK
* checking if there is a namespace ... OK
* checking for hidden files and directories ... OK
* checking for portable file names ... OK
* checking for sufficient/correct file permissions ... OK
* checking whether package ‘trackViewer’ can be installed ... OK
* checking installed package size ... OK
* checking package directory ... OK
* checking ‘build’ directory ... OK
* checking DESCRIPTION meta-information ... OK
* checking top-level files ... OK
* checking for left-over files ... OK
* checking index information ... OK
* checking package subdirectories ... OK
* checking R files for non-ASCII characters ... OK
* checking R files for syntax errors ... OK
* checking whether the package can be loaded ... OK
* checking whether the package can be loaded with stated dependencies ... OK
* checking whether the package can be unloaded cleanly ... OK
* checking whether the namespace can be loaded with stated dependencies ... OK
* checking whether the namespace can be unloaded cleanly ... OK
* checking dependencies in R code ... OK
* checking S3 generic/method consistency ... OK
* checking replacement functions ... OK
* checking foreign function calls ... OK
* checking R code for possible problems ... OK
* checking Rd files ... OK
* checking Rd metadata ... OK
* checking Rd cross-references ... OK
* checking for missing documentation entries ... OK
* checking for code/documentation mismatches ... OK
* checking Rd \usage sections ... OK
* checking Rd contents ... OK
* checking for unstated dependencies in examples ... OK
* checking files in ‘vignettes’ ... OK
* checking examples ... OK
Examples with CPU or elapsed time > 5s
user system elapsed
trackViewer-package 21.128 0.060 22.077
browseTracks 15.068 0.036 15.162
parseWIG 13.808 0.008 13.827
viewTracks 13.796 0.008 14.919
geneModelFromTxdb 7.516 0.100 7.627
viewGene 6.452 0.044 7.327
* checking for unstated dependencies in ‘tests’ ... OK
* checking tests ...
Running ‘runTests.R’
OK
* checking for unstated dependencies in vignettes ... OK
* checking package vignettes in ‘inst/doc’ ... OK
* checking running R code from vignettes ... SKIPPED
* checking re-building of vignette outputs ... SKIPPED
* checking PDF version of manual ... OK
* DONE
Status: OK
trackViewer.Rcheck/00install.out
############################################################################## ############################################################################## ### ### Running command: ### ### /home/biocbuild/bbs-3.8-bioc/R/bin/R CMD INSTALL trackViewer ### ############################################################################## ############################################################################## * installing to library ‘/home/biocbuild/bbs-3.8-bioc/R/library’ * installing *source* package ‘trackViewer’ ... ** R ** inst ** byte-compile and prepare package for lazy loading ** help *** installing help indices ** building package indices ** installing vignettes ** testing if installed package can be loaded * DONE (trackViewer)
trackViewer.Rcheck/tests/runTests.Rout
R version 3.5.3 (2019-03-11) -- "Great Truth"
Copyright (C) 2019 The R Foundation for Statistical Computing
Platform: x86_64-pc-linux-gnu (64-bit)
R is free software and comes with ABSOLUTELY NO WARRANTY.
You are welcome to redistribute it under certain conditions.
Type 'license()' or 'licence()' for distribution details.
R is a collaborative project with many contributors.
Type 'contributors()' for more information and
'citation()' on how to cite R or R packages in publications.
Type 'demo()' for some demos, 'help()' for on-line help, or
'help.start()' for an HTML browser interface to help.
Type 'q()' to quit R.
> require("trackViewer") || stop("unable to load Package:trackViewer")
Loading required package: trackViewer
Loading required package: GenomicRanges
Loading required package: stats4
Loading required package: BiocGenerics
Loading required package: parallel
Attaching package: 'BiocGenerics'
The following objects are masked from 'package:parallel':
clusterApply, clusterApplyLB, clusterCall, clusterEvalQ,
clusterExport, clusterMap, parApply, parCapply, parLapply,
parLapplyLB, parRapply, parSapply, parSapplyLB
The following objects are masked from 'package:stats':
IQR, mad, sd, var, xtabs
The following objects are masked from 'package:base':
Filter, Find, Map, Position, Reduce, anyDuplicated, append,
as.data.frame, basename, cbind, colMeans, colSums, colnames,
dirname, do.call, duplicated, eval, evalq, get, grep, grepl,
intersect, is.unsorted, lapply, lengths, mapply, match, mget,
order, paste, pmax, pmax.int, pmin, pmin.int, rank, rbind,
rowMeans, rowSums, rownames, sapply, setdiff, sort, table, tapply,
union, unique, unsplit, which, which.max, which.min
Loading required package: S4Vectors
Attaching package: 'S4Vectors'
The following object is masked from 'package:base':
expand.grid
Loading required package: IRanges
Loading required package: GenomeInfoDb
Loading required package: grid
[1] TRUE
> require("RUnit") || stop("unable to load Package:RUnit")
Loading required package: RUnit
[1] TRUE
> BiocGenerics:::testPackage("trackViewer")
RUNIT TEST PROTOCOL -- Tue Apr 16 03:35:12 2019
***********************************************
Number of test functions: 1
Number of errors: 0
Number of failures: 0
1 Test Suite :
trackViewer RUnit Tests - 1 test function, 0 errors, 0 failures
Number of test functions: 1
Number of errors: 0
Number of failures: 0
>
> proc.time()
user system elapsed
15.008 0.400 16.276
trackViewer.Rcheck/trackViewer-Ex.timings
| name | user | system | elapsed | |
| GRoperator | 2.380 | 0.108 | 2.494 | |
| addArrowMark | 0.008 | 0.000 | 0.009 | |
| addGuideLine | 0.004 | 0.000 | 0.005 | |
| browseTracks | 15.068 | 0.036 | 15.162 | |
| coverageGR | 0.272 | 0.000 | 0.270 | |
| dandelion.plot | 2.556 | 0.004 | 2.574 | |
| geneModelFromTxdb | 7.516 | 0.100 | 7.627 | |
| geneTrack | 0.448 | 0.012 | 0.465 | |
| getCurTrackViewport | 0.004 | 0.000 | 0.009 | |
| getLocation | 1.384 | 0.008 | 1.399 | |
| gieStain | 0.008 | 0.000 | 0.009 | |
| ideogramPlot | 0 | 0 | 0 | |
| importBam | 0.244 | 0.000 | 0.243 | |
| importData | 2.248 | 0.008 | 2.256 | |
| importScore | 0.916 | 0.012 | 0.937 | |
| loadIdeogram | 0.000 | 0.000 | 0.001 | |
| lolliplot | 0.948 | 0.000 | 0.946 | |
| optimizeStyle | 0.612 | 0.012 | 0.637 | |
| parse2GRanges | 0.008 | 0.000 | 0.009 | |
| parseWIG | 13.808 | 0.008 | 13.827 | |
| plotGInteractions | 1.728 | 0.004 | 1.732 | |
| plotGRanges | 1.540 | 0.004 | 1.550 | |
| plotIdeo | 0 | 0 | 0 | |
| plotOneIdeo | 0 | 0 | 0 | |
| trackStyle-class | 0.032 | 0.004 | 0.036 | |
| trackViewer-package | 21.128 | 0.060 | 22.077 | |
| trackViewerStyle-class | 0.000 | 0.000 | 0.001 | |
| viewGene | 6.452 | 0.044 | 7.327 | |
| viewTracks | 13.796 | 0.008 | 14.919 | |