| Back to Multiple platform build/check report for BioC 3.8 | 
 | 
This page was generated on 2019-04-16 11:53:58 -0400 (Tue, 16 Apr 2019).
| Package 1567/1649 | Hostname | OS / Arch | INSTALL | BUILD | CHECK | BUILD BIN | ||||||
| tkWidgets 1.60.0 J. Zhang 
 | malbec1 | Linux (Ubuntu 16.04.6 LTS) / x86_64 | OK | OK | OK |  | ||||||
| merida1 | OS X 10.11.6 El Capitan / x86_64 | OK | OK | OK | [ OK ] |  | 
| Package: tkWidgets | 
| Version: 1.60.0 | 
| Command: rm -rf tkWidgets.buildbin-libdir && mkdir tkWidgets.buildbin-libdir && /Users/biocbuild/BBS/utils/build-universal.sh tkWidgets_1.60.0.tar.gz /Library/Frameworks/R.framework/Versions/Current/Resources/bin/R tkWidgets.buildbin-libdir | 
| StartedAt: 2019-04-16 04:51:06 -0400 (Tue, 16 Apr 2019) | 
| EndedAt: 2019-04-16 04:51:53 -0400 (Tue, 16 Apr 2019) | 
| EllapsedTime: 47.1 seconds | 
| RetCode: 0 | 
| Status: OK | 
| PackageFile: tkWidgets_1.60.0.tgz | 
| PackageFileSize: 556.5 KiB | 
############################################################################## ############################################################################## ### ### Running command: ### ### rm -rf tkWidgets.buildbin-libdir && mkdir tkWidgets.buildbin-libdir && /Users/biocbuild/BBS/utils/build-universal.sh tkWidgets_1.60.0.tar.gz /Library/Frameworks/R.framework/Versions/Current/Resources/bin/R tkWidgets.buildbin-libdir ### ############################################################################## ############################################################################## >>>>>>> >>>>>>> INSTALLATION WITH 'R CMD INSTALL --preclean --no-multiarch --library=tkWidgets.buildbin-libdir tkWidgets_1.60.0.tar.gz' >>>>>>> * installing *source* package ‘tkWidgets’ ... ** R ** inst ** byte-compile and prepare package for lazy loading ** help *** installing help indices ** building package indices ** installing vignettes ** testing if installed package can be loaded * DONE (tkWidgets)