| Back to Multiple platform build/check report for BioC 3.8 |
|
This page was generated on 2019-04-13 11:22:15 -0400 (Sat, 13 Apr 2019).
| Package 1538/1649 | Hostname | OS / Arch | INSTALL | BUILD | CHECK | BUILD BIN | ||||||
| synapter 2.6.1 Laurent Gatto
| malbec1 | Linux (Ubuntu 16.04.6 LTS) / x86_64 | OK | OK | NA | |||||||
| tokay1 | Windows Server 2012 R2 Standard / x64 | OK | OK | OK | [ OK ] | |||||||
| merida1 | OS X 10.11.6 El Capitan / x86_64 | OK | ERROR | skipped | skipped |
| Package: synapter |
| Version: 2.6.1 |
| Command: rm -rf synapter.buildbin-libdir && mkdir synapter.buildbin-libdir && C:\Users\biocbuild\bbs-3.8-bioc\R\bin\R.exe CMD INSTALL --merge-multiarch --build --library=synapter.buildbin-libdir synapter_2.6.1.tar.gz |
| StartedAt: 2019-04-13 08:00:44 -0400 (Sat, 13 Apr 2019) |
| EndedAt: 2019-04-13 08:01:18 -0400 (Sat, 13 Apr 2019) |
| EllapsedTime: 34.0 seconds |
| RetCode: 0 |
| Status: OK |
| PackageFile: synapter_2.6.1.zip |
| PackageFileSize: 3.384 MiB |
##############################################################################
##############################################################################
###
### Running command:
###
### rm -rf synapter.buildbin-libdir && mkdir synapter.buildbin-libdir && C:\Users\biocbuild\bbs-3.8-bioc\R\bin\R.exe CMD INSTALL --merge-multiarch --build --library=synapter.buildbin-libdir synapter_2.6.1.tar.gz
###
##############################################################################
##############################################################################
install for i386
* installing *source* package 'synapter' ...
** R
** data
** inst
** byte-compile and prepare package for lazy loading
** help
*** installing help indices
converting help for package 'synapter'
finding HTML links ... done
MasterFdrResults-class html
MasterPeptides-class html
Synapter html
finding level-2 HTML links ... done
createUniquePeptideDbRds html
defunct html
estimateMasterFdr html
inspectPeptideScores html
makeMaster html
plotCrossMatching html
requantify html
rescaleForTop3 html
synapter-package html
synapterGuide html
synapterPlgsAgreement html
synapterTinyData html
synergise html
synergise2 html
** building package indices
** installing vignettes
** testing if installed package can be loaded
In R CMD INSTALL
install for x64
* installing *source* package 'synapter' ...
** testing if installed package can be loaded
* MD5 sums
packaged installation of 'synapter' as synapter_2.6.1.zip
* DONE (synapter)
In R CMD INSTALL
In R CMD INSTALL