| Back to Multiple platform build/check report for BioC 3.8 |
|
This page was generated on 2019-04-16 11:54:12 -0400 (Tue, 16 Apr 2019).
| Package 1518/1649 | Hostname | OS / Arch | INSTALL | BUILD | CHECK | BUILD BIN | ||||||
| stepNorm 1.54.0 Yuanyuan Xiao
| malbec1 | Linux (Ubuntu 16.04.6 LTS) / x86_64 | OK | OK | OK | |||||||
| merida1 | OS X 10.11.6 El Capitan / x86_64 | OK | OK | [ OK ] | OK |
| Package: stepNorm |
| Version: 1.54.0 |
| Command: /Library/Frameworks/R.framework/Versions/Current/Resources/bin/R CMD check --install=check:stepNorm.install-out.txt --library=/Library/Frameworks/R.framework/Versions/Current/Resources/library --no-vignettes --timings stepNorm_1.54.0.tar.gz |
| StartedAt: 2019-04-16 03:01:08 -0400 (Tue, 16 Apr 2019) |
| EndedAt: 2019-04-16 03:02:59 -0400 (Tue, 16 Apr 2019) |
| EllapsedTime: 111.5 seconds |
| RetCode: 0 |
| Status: OK |
| CheckDir: stepNorm.Rcheck |
| Warnings: 0 |
##############################################################################
##############################################################################
###
### Running command:
###
### /Library/Frameworks/R.framework/Versions/Current/Resources/bin/R CMD check --install=check:stepNorm.install-out.txt --library=/Library/Frameworks/R.framework/Versions/Current/Resources/library --no-vignettes --timings stepNorm_1.54.0.tar.gz
###
##############################################################################
##############################################################################
* using log directory ‘/Users/biocbuild/bbs-3.8-bioc/meat/stepNorm.Rcheck’
* using R version 3.5.3 (2019-03-11)
* using platform: x86_64-apple-darwin15.6.0 (64-bit)
* using session charset: UTF-8
* using option ‘--no-vignettes’
* checking for file ‘stepNorm/DESCRIPTION’ ... OK
* this is package ‘stepNorm’ version ‘1.54.0’
* checking package namespace information ... OK
* checking package dependencies ... OK
* checking if this is a source package ... OK
* checking if there is a namespace ... OK
* checking for hidden files and directories ... OK
* checking for portable file names ... OK
* checking for sufficient/correct file permissions ... OK
* checking whether package ‘stepNorm’ can be installed ... OK
* checking installed package size ... OK
* checking package directory ... OK
* checking DESCRIPTION meta-information ... NOTE
Packages listed in more than one of Depends, Imports, Suggests, Enhances:
‘marray’ ‘methods’
A package should be listed in only one of these fields.
* checking top-level files ... OK
* checking for left-over files ... OK
* checking index information ... OK
* checking package subdirectories ... OK
* checking R files for non-ASCII characters ... OK
* checking R files for syntax errors ... OK
* checking whether the package can be loaded ... OK
* checking whether the package can be loaded with stated dependencies ... OK
* checking whether the package can be unloaded cleanly ... OK
* checking whether the namespace can be loaded with stated dependencies ... OK
* checking whether the namespace can be unloaded cleanly ... OK
* checking dependencies in R code ... OK
* checking S3 generic/method consistency ... OK
* checking replacement functions ... OK
* checking foreign function calls ... OK
* checking R code for possible problems ... NOTE
loess2Dfit: warning in loess.control(trace.hat = "approximate",
iteration = 5, surface = "direct"): partial argument match of
'iteration' to 'iterations'
loessfit: warning in loess.control(trace.hat = "approximate", iteration
= 5, surface = "direct"): partial argument match of 'iteration' to
'iterations'
* checking Rd files ... OK
* checking Rd metadata ... OK
* checking Rd cross-references ... OK
* checking for missing documentation entries ... OK
* checking for code/documentation mismatches ... OK
* checking Rd \usage sections ... OK
* checking Rd contents ... OK
* checking for unstated dependencies in examples ... OK
* checking examples ... OK
Examples with CPU or elapsed time > 5s
user system elapsed
stepWithinNorm 32.817 0.157 33.650
fitWithin 30.292 0.139 31.330
fit2DWithin 12.780 0.117 13.059
* checking PDF version of manual ... OK
* DONE
Status: 2 NOTEs
See
‘/Users/biocbuild/bbs-3.8-bioc/meat/stepNorm.Rcheck/00check.log’
for details.
stepNorm.Rcheck/00install.out
############################################################################## ############################################################################## ### ### Running command: ### ### /Library/Frameworks/R.framework/Versions/Current/Resources/bin/R CMD INSTALL stepNorm ### ############################################################################## ############################################################################## * installing to library ‘/Library/Frameworks/R.framework/Versions/3.5/Resources/library’ * installing *source* package ‘stepNorm’ ... ** R ** inst ** byte-compile and prepare package for lazy loading ** help *** installing help indices ** building package indices ** testing if installed package can be loaded * DONE (stepNorm)
stepNorm.Rcheck/stepNorm-Ex.timings
| name | user | system | elapsed | |
| calcAIC | 0.119 | 0.020 | 0.140 | |
| calcBIC | 0.118 | 0.019 | 0.139 | |
| fit2DWithin | 12.780 | 0.117 | 13.059 | |
| fitWithin | 30.292 | 0.139 | 31.330 | |
| maCompPlate2 | 0.012 | 0.001 | 0.013 | |
| makeStepList | 0.067 | 0.007 | 0.074 | |
| marrayFitClass | 0.114 | 0.021 | 0.140 | |
| seqWithinNorm | 0.374 | 0.033 | 0.413 | |
| stepWithinNorm | 32.817 | 0.157 | 33.650 | |
| withinNorm | 0.079 | 0.006 | 0.085 | |