| Back to Multiple platform build/check report for BioC 3.8 | 
 | 
This page was generated on 2019-04-13 11:25:15 -0400 (Sat, 13 Apr 2019).
| Package 1478/1649 | Hostname | OS / Arch | INSTALL | BUILD | CHECK | BUILD BIN | ||||||
| soGGi 1.14.0 Tom Carroll 
 | malbec1 | Linux (Ubuntu 16.04.6 LTS) / x86_64 | OK | OK | NA | |||||||
| tokay1 | Windows Server 2012 R2 Standard / x64 | OK | [ OK ] | WARNINGS | OK |  | ||||||
| merida1 | OS X 10.11.6 El Capitan / x86_64 | OK | OK | WARNINGS | OK |  | 
| Package: soGGi | 
| Version: 1.14.0 | 
| Command: chmod a+r soGGi -R && C:\Users\biocbuild\bbs-3.8-bioc\R\bin\R.exe CMD build --keep-empty-dirs --no-resave-data soGGi | 
| StartedAt: 2019-04-12 22:27:56 -0400 (Fri, 12 Apr 2019) | 
| EndedAt: 2019-04-12 22:29:26 -0400 (Fri, 12 Apr 2019) | 
| EllapsedTime: 90.1 seconds | 
| RetCode: 0 | 
| Status: OK | 
| PackageFile: soGGi_1.14.0.tar.gz | 
| PackageFileSize: 3.043 MiB | 
##############################################################################
##############################################################################
###
### Running command:
###
###   chmod a+r soGGi -R && C:\Users\biocbuild\bbs-3.8-bioc\R\bin\R.exe CMD build --keep-empty-dirs --no-resave-data soGGi
###
##############################################################################
##############################################################################
* checking for file 'soGGi/DESCRIPTION' ... OK
* preparing 'soGGi':
* checking DESCRIPTION meta-information ... OK
* installing the package to build vignettes
* creating vignettes ... OK
Warning: 'inst/doc' files
    'soggi.Rnw', 'soggi.pdf'
  ignored as vignettes have been rebuilt.
  Run R CMD build with --no-build-vignettes to prevent rebuilding.
* checking for LF line-endings in source and make files and shell scripts
* checking for empty or unneeded directories
* looking to see if a 'data/datalist' file should be added
* building 'soGGi_1.14.0.tar.gz'