Back to Multiple platform build/check report for BioC 3.8 |
|
This page was generated on 2019-04-13 11:29:22 -0400 (Sat, 13 Apr 2019).
Package 1465/1649 | Hostname | OS / Arch | INSTALL | BUILD | CHECK | BUILD BIN | ||||||
slingshot 1.0.0 Kelly Street
| malbec1 | Linux (Ubuntu 16.04.6 LTS) / x86_64 | OK | OK | NA | |||||||
tokay1 | Windows Server 2012 R2 Standard / x64 | [ OK ] | OK | WARNINGS | OK | ![]() | ||||||
merida1 | OS X 10.11.6 El Capitan / x86_64 | ERROR | ERROR | skipped | skipped |
Package: slingshot |
Version: 1.0.0 |
Command: C:\cygwin\bin\curl.exe -O https://malbec1.bioconductor.org/BBS/3.8/bioc/src/contrib/slingshot_1.0.0.tar.gz && rm -rf slingshot.buildbin-libdir && mkdir slingshot.buildbin-libdir && C:\Users\biocbuild\bbs-3.8-bioc\R\bin\R.exe CMD INSTALL --merge-multiarch --build --library=slingshot.buildbin-libdir slingshot_1.0.0.tar.gz && C:\Users\biocbuild\bbs-3.8-bioc\R\bin\R.exe CMD INSTALL slingshot_1.0.0.zip && rm slingshot_1.0.0.tar.gz slingshot_1.0.0.zip |
StartedAt: 2019-04-12 20:34:19 -0400 (Fri, 12 Apr 2019) |
EndedAt: 2019-04-12 20:35:41 -0400 (Fri, 12 Apr 2019) |
EllapsedTime: 82.1 seconds |
RetCode: 0 |
Status: OK |
############################################################################## ############################################################################## ### ### Running command: ### ### C:\cygwin\bin\curl.exe -O https://malbec1.bioconductor.org/BBS/3.8/bioc/src/contrib/slingshot_1.0.0.tar.gz && rm -rf slingshot.buildbin-libdir && mkdir slingshot.buildbin-libdir && C:\Users\biocbuild\bbs-3.8-bioc\R\bin\R.exe CMD INSTALL --merge-multiarch --build --library=slingshot.buildbin-libdir slingshot_1.0.0.tar.gz && C:\Users\biocbuild\bbs-3.8-bioc\R\bin\R.exe CMD INSTALL slingshot_1.0.0.zip && rm slingshot_1.0.0.tar.gz slingshot_1.0.0.zip ### ############################################################################## ############################################################################## % Total % Received % Xferd Average Speed Time Time Time Current Dload Upload Total Spent Left Speed 0 0 0 0 0 0 0 0 --:--:-- --:--:-- --:--:-- 0 100 1002k 100 1002k 0 0 21.9M 0 --:--:-- --:--:-- --:--:-- 23.8M install for i386 * installing *source* package 'slingshot' ... ** R ** data ** inst ** byte-compile and prepare package for lazy loading Warning: replacing previous import 'SingleCellExperiment::weights' by 'stats::weights' when loading 'slingshot' ** help *** installing help indices converting help for package 'slingshot' finding HTML links ... done SlingshotDataSet-class html SlingshotDataSet html getCurves html getLineages html finding level-2 HTML links ... done newSlingshotDataSet html pairs-SlingshotDataSet html plot-SlingshotDataSet html plot3d-SlingshotDataSet html plotGenePseudotime html predict.SlingshotDataSet html slingAdjacency html slingCurves html slingLineages html slingParams html slingPseudotime html slingshot html slingshotExample html splatterParameters html ** building package indices ** installing vignettes 'slingshot.Rmd' using 'UTF-8' ** testing if installed package can be loaded Warning: replacing previous import 'SingleCellExperiment::weights' by 'stats::weights' when loading 'slingshot' In R CMD INSTALL install for x64 * installing *source* package 'slingshot' ... ** testing if installed package can be loaded Warning: replacing previous import 'SingleCellExperiment::weights' by 'stats::weights' when loading 'slingshot' * MD5 sums packaged installation of 'slingshot' as slingshot_1.0.0.zip * DONE (slingshot) In R CMD INSTALL In R CMD INSTALL * installing to library 'C:/Users/biocbuild/bbs-3.8-bioc/R/library' package 'slingshot' successfully unpacked and MD5 sums checked In R CMD INSTALL