| Back to Multiple platform build/check report for BioC 3.8 |
|
This page was generated on 2019-04-16 11:58:41 -0400 (Tue, 16 Apr 2019).
| Package 1452/1649 | Hostname | OS / Arch | INSTALL | BUILD | CHECK | BUILD BIN | ||||||
| similaRpeak 1.14.0 Astrid Deschenes
| malbec1 | Linux (Ubuntu 16.04.6 LTS) / x86_64 | OK | OK | OK | |||||||
| merida1 | OS X 10.11.6 El Capitan / x86_64 | OK | OK | OK | [ OK ] |
| Package: similaRpeak |
| Version: 1.14.0 |
| Command: rm -rf similaRpeak.buildbin-libdir && mkdir similaRpeak.buildbin-libdir && /Users/biocbuild/BBS/utils/build-universal.sh similaRpeak_1.14.0.tar.gz /Library/Frameworks/R.framework/Versions/Current/Resources/bin/R similaRpeak.buildbin-libdir |
| StartedAt: 2019-04-16 04:45:35 -0400 (Tue, 16 Apr 2019) |
| EndedAt: 2019-04-16 04:46:19 -0400 (Tue, 16 Apr 2019) |
| EllapsedTime: 44.0 seconds |
| RetCode: 0 |
| Status: OK |
| PackageFile: similaRpeak_1.14.0.tgz |
| PackageFileSize: 2.698 MiB |
############################################################################## ############################################################################## ### ### Running command: ### ### rm -rf similaRpeak.buildbin-libdir && mkdir similaRpeak.buildbin-libdir && /Users/biocbuild/BBS/utils/build-universal.sh similaRpeak_1.14.0.tar.gz /Library/Frameworks/R.framework/Versions/Current/Resources/bin/R similaRpeak.buildbin-libdir ### ############################################################################## ############################################################################## >>>>>>> >>>>>>> INSTALLATION WITH 'R CMD INSTALL --preclean --no-multiarch --library=similaRpeak.buildbin-libdir similaRpeak_1.14.0.tar.gz' >>>>>>> * installing *source* package ‘similaRpeak’ ... ** R ** data ** inst ** byte-compile and prepare package for lazy loading ** help *** installing help indices ** building package indices ** installing vignettes ** testing if installed package can be loaded * DONE (similaRpeak)