| Back to Multiple platform build/check report for BioC 3.8 | 
  | 
This page was generated on 2019-04-16 11:51:07 -0400 (Tue, 16 Apr 2019).
| Package 1447/1649 | Hostname | OS / Arch | INSTALL | BUILD | CHECK | BUILD BIN | ||||||
| sigsquared 1.14.0 UnJin Lee 
  | malbec1 | Linux (Ubuntu 16.04.6 LTS) / x86_64 | OK | [ OK ] | OK | |||||||
| merida1 | OS X 10.11.6 El Capitan / x86_64 | OK | OK | OK | OK | 
| Package: sigsquared | 
| Version: 1.14.0 | 
| Command: /home/biocbuild/bbs-3.8-bioc/R/bin/R CMD build --keep-empty-dirs --no-resave-data sigsquared | 
| StartedAt: 2019-04-15 20:03:56 -0400 (Mon, 15 Apr 2019) | 
| EndedAt: 2019-04-15 20:04:31 -0400 (Mon, 15 Apr 2019) | 
| EllapsedTime: 34.3 seconds | 
| RetCode: 0 | 
| Status: OK | 
| PackageFile: sigsquared_1.14.0.tar.gz | 
| PackageFileSize: 361.9 KiB | 
############################################################################## ############################################################################## ### ### Running command: ### ### /home/biocbuild/bbs-3.8-bioc/R/bin/R CMD build --keep-empty-dirs --no-resave-data sigsquared ### ############################################################################## ############################################################################## * checking for file ‘sigsquared/DESCRIPTION’ ... OK * preparing ‘sigsquared’: * checking DESCRIPTION meta-information ... OK * installing the package to build vignettes * creating vignettes ... OK * checking for LF line-endings in source and make files and shell scripts * checking for empty or unneeded directories * looking to see if a ‘data/datalist’ file should be added * building ‘sigsquared_1.14.0.tar.gz’