| Back to Multiple platform build/check report for BioC 3.8 |
|
This page was generated on 2019-04-13 11:29:20 -0400 (Sat, 13 Apr 2019).
| Package 1440/1649 | Hostname | OS / Arch | INSTALL | BUILD | CHECK | BUILD BIN | ||||||
| sigFeature 1.0.0 Pijush Das Developer
| malbec1 | Linux (Ubuntu 16.04.6 LTS) / x86_64 | OK | OK | NA | |||||||
| tokay1 | Windows Server 2012 R2 Standard / x64 | [ OK ] | OK | OK | OK | |||||||
| merida1 | OS X 10.11.6 El Capitan / x86_64 | OK | OK | OK | OK |
| Package: sigFeature |
| Version: 1.0.0 |
| Command: C:\cygwin\bin\curl.exe -O https://malbec1.bioconductor.org/BBS/3.8/bioc/src/contrib/sigFeature_1.0.0.tar.gz && rm -rf sigFeature.buildbin-libdir && mkdir sigFeature.buildbin-libdir && C:\Users\biocbuild\bbs-3.8-bioc\R\bin\R.exe CMD INSTALL --merge-multiarch --build --library=sigFeature.buildbin-libdir sigFeature_1.0.0.tar.gz && C:\Users\biocbuild\bbs-3.8-bioc\R\bin\R.exe CMD INSTALL sigFeature_1.0.0.zip && rm sigFeature_1.0.0.tar.gz sigFeature_1.0.0.zip |
| StartedAt: 2019-04-12 19:42:42 -0400 (Fri, 12 Apr 2019) |
| EndedAt: 2019-04-12 19:43:23 -0400 (Fri, 12 Apr 2019) |
| EllapsedTime: 40.2 seconds |
| RetCode: 0 |
| Status: OK |
##############################################################################
##############################################################################
###
### Running command:
###
### C:\cygwin\bin\curl.exe -O https://malbec1.bioconductor.org/BBS/3.8/bioc/src/contrib/sigFeature_1.0.0.tar.gz && rm -rf sigFeature.buildbin-libdir && mkdir sigFeature.buildbin-libdir && C:\Users\biocbuild\bbs-3.8-bioc\R\bin\R.exe CMD INSTALL --merge-multiarch --build --library=sigFeature.buildbin-libdir sigFeature_1.0.0.tar.gz && C:\Users\biocbuild\bbs-3.8-bioc\R\bin\R.exe CMD INSTALL sigFeature_1.0.0.zip && rm sigFeature_1.0.0.tar.gz sigFeature_1.0.0.zip
###
##############################################################################
##############################################################################
% Total % Received % Xferd Average Speed Time Time Time Current
Dload Upload Total Spent Left Speed
0 0 0 0 0 0 0 0 --:--:-- --:--:-- --:--:-- 0
100 241k 100 241k 0 0 5597k 0 --:--:-- --:--:-- --:--:-- 6031k
install for i386
* installing *source* package 'sigFeature' ...
** R
** data
*** moving datasets to lazyload DB
** inst
** byte-compile and prepare package for lazy loading
** help
*** installing help indices
converting help for package 'sigFeature'
finding HTML links ... done
ExampleRawData html
PlotErrors html
WritesigFeature html
featsweepSigFe html
featureRankedList html
results html
sigCVError html
sigFeature html
sigFeature.enfold html
sigFeatureFrequency html
sigFeaturePvalue html
sigfeatureRankedList html
svmrfeFeatureRanking html
** building package indices
** installing vignettes
** testing if installed package can be loaded
In R CMD INSTALL
install for x64
* installing *source* package 'sigFeature' ...
** testing if installed package can be loaded
* MD5 sums
packaged installation of 'sigFeature' as sigFeature_1.0.0.zip
* DONE (sigFeature)
In R CMD INSTALL
In R CMD INSTALL
* installing to library 'C:/Users/biocbuild/bbs-3.8-bioc/R/library'
package 'sigFeature' successfully unpacked and MD5 sums checked
In R CMD INSTALL