| Back to Multiple platform build/check report for BioC 3.8 | 
 | 
This page was generated on 2019-04-16 11:55:12 -0400 (Tue, 16 Apr 2019).
| Package 1409/1649 | Hostname | OS / Arch | INSTALL | BUILD | CHECK | BUILD BIN | ||||||
| segmentSeq 2.16.0 Thomas J. Hardcastle 
 | malbec1 | Linux (Ubuntu 16.04.6 LTS) / x86_64 | OK | OK | OK |  | ||||||
| merida1 | OS X 10.11.6 El Capitan / x86_64 | OK | OK | OK | [ OK ] |  | 
| Package: segmentSeq | 
| Version: 2.16.0 | 
| Command: rm -rf segmentSeq.buildbin-libdir && mkdir segmentSeq.buildbin-libdir && /Users/biocbuild/BBS/utils/build-universal.sh segmentSeq_2.16.0.tar.gz /Library/Frameworks/R.framework/Versions/Current/Resources/bin/R segmentSeq.buildbin-libdir | 
| StartedAt: 2019-04-16 04:43:34 -0400 (Tue, 16 Apr 2019) | 
| EndedAt: 2019-04-16 04:44:10 -0400 (Tue, 16 Apr 2019) | 
| EllapsedTime: 36.7 seconds | 
| RetCode: 0 | 
| Status: OK | 
| PackageFile: segmentSeq_2.16.0.tgz | 
| PackageFileSize: 3.398 MiB | 
############################################################################## ############################################################################## ### ### Running command: ### ### rm -rf segmentSeq.buildbin-libdir && mkdir segmentSeq.buildbin-libdir && /Users/biocbuild/BBS/utils/build-universal.sh segmentSeq_2.16.0.tar.gz /Library/Frameworks/R.framework/Versions/Current/Resources/bin/R segmentSeq.buildbin-libdir ### ############################################################################## ############################################################################## >>>>>>> >>>>>>> INSTALLATION WITH 'R CMD INSTALL --preclean --no-multiarch --library=segmentSeq.buildbin-libdir segmentSeq_2.16.0.tar.gz' >>>>>>> * installing *source* package ‘segmentSeq’ ... ** R ** data ** inst ** byte-compile and prepare package for lazy loading ** help *** installing help indices ** building package indices ** installing vignettes ** testing if installed package can be loaded * DONE (segmentSeq)