| Back to Multiple platform build/check report for BioC 3.8 | 
 | 
This page was generated on 2019-04-16 12:11:15 -0400 (Tue, 16 Apr 2019).
| Package 1406/1649 | Hostname | OS / Arch | INSTALL | BUILD | CHECK | BUILD BIN | ||||||
| scruff 1.0.3 Zhe Wang 
 | malbec1 | Linux (Ubuntu 16.04.6 LTS) / x86_64 | OK | OK | OK |  | ||||||
| merida1 | OS X 10.11.6 El Capitan / x86_64 | OK | OK | OK | [ OK ] |  | 
| Package: scruff | 
| Version: 1.0.3 | 
| Command: rm -rf scruff.buildbin-libdir && mkdir scruff.buildbin-libdir && /Users/biocbuild/BBS/utils/build-universal.sh scruff_1.0.3.tar.gz /Library/Frameworks/R.framework/Versions/Current/Resources/bin/R scruff.buildbin-libdir | 
| StartedAt: 2019-04-16 04:43:25 -0400 (Tue, 16 Apr 2019) | 
| EndedAt: 2019-04-16 04:43:56 -0400 (Tue, 16 Apr 2019) | 
| EllapsedTime: 30.8 seconds | 
| RetCode: 0 | 
| Status: OK | 
| PackageFile: scruff_1.0.3.tgz | 
| PackageFileSize: 3.14 MiB | 
############################################################################## ############################################################################## ### ### Running command: ### ### rm -rf scruff.buildbin-libdir && mkdir scruff.buildbin-libdir && /Users/biocbuild/BBS/utils/build-universal.sh scruff_1.0.3.tar.gz /Library/Frameworks/R.framework/Versions/Current/Resources/bin/R scruff.buildbin-libdir ### ############################################################################## ############################################################################## >>>>>>> >>>>>>> INSTALLATION WITH 'R CMD INSTALL --preclean --no-multiarch --library=scruff.buildbin-libdir scruff_1.0.3.tar.gz' >>>>>>> * installing *source* package ‘scruff’ ... ** R ** data ** inst ** byte-compile and prepare package for lazy loading ** help *** installing help indices ** building package indices ** installing vignettes ** testing if installed package can be loaded * DONE (scruff)