| Back to Multiple platform build/check report for BioC 3.8 | 
 | 
This page was generated on 2019-04-16 12:00:46 -0400 (Tue, 16 Apr 2019).
| Package 1403/1649 | Hostname | OS / Arch | INSTALL | BUILD | CHECK | BUILD BIN | ||||||
| scoreInvHap 1.4.0 Carlos Ruiz 
 | malbec1 | Linux (Ubuntu 16.04.6 LTS) / x86_64 | OK | OK | WARNINGS |  | ||||||
| merida1 | OS X 10.11.6 El Capitan / x86_64 | OK | OK | WARNINGS | [ OK ] |  | 
| Package: scoreInvHap | 
| Version: 1.4.0 | 
| Command: rm -rf scoreInvHap.buildbin-libdir && mkdir scoreInvHap.buildbin-libdir && /Users/biocbuild/BBS/utils/build-universal.sh scoreInvHap_1.4.0.tar.gz /Library/Frameworks/R.framework/Versions/Current/Resources/bin/R scoreInvHap.buildbin-libdir | 
| StartedAt: 2019-04-16 04:43:16 -0400 (Tue, 16 Apr 2019) | 
| EndedAt: 2019-04-16 04:43:53 -0400 (Tue, 16 Apr 2019) | 
| EllapsedTime: 36.7 seconds | 
| RetCode: 0 | 
| Status: OK | 
| PackageFile: scoreInvHap_1.4.0.tgz | 
| PackageFileSize: 1.127 MiB | 
############################################################################## ############################################################################## ### ### Running command: ### ### rm -rf scoreInvHap.buildbin-libdir && mkdir scoreInvHap.buildbin-libdir && /Users/biocbuild/BBS/utils/build-universal.sh scoreInvHap_1.4.0.tar.gz /Library/Frameworks/R.framework/Versions/Current/Resources/bin/R scoreInvHap.buildbin-libdir ### ############################################################################## ############################################################################## >>>>>>> >>>>>>> INSTALLATION WITH 'R CMD INSTALL --preclean --no-multiarch --library=scoreInvHap.buildbin-libdir scoreInvHap_1.4.0.tar.gz' >>>>>>> * installing *source* package ‘scoreInvHap’ ... ** R ** data *** moving datasets to lazyload DB ** inst ** byte-compile and prepare package for lazy loading ** help *** installing help indices ** building package indices ** installing vignettes ** testing if installed package can be loaded * DONE (scoreInvHap)