| Back to Multiple platform build/check report for BioC 3.8 |
|
This page was generated on 2019-04-16 12:00:14 -0400 (Tue, 16 Apr 2019).
| Package 1401/1649 | Hostname | OS / Arch | INSTALL | BUILD | CHECK | BUILD BIN | ||||||
| scone 1.6.1 Michael Cole
| malbec1 | Linux (Ubuntu 16.04.6 LTS) / x86_64 | OK | OK | OK | |||||||
| merida1 | OS X 10.11.6 El Capitan / x86_64 | OK | OK | OK | [ OK ] |
| Package: scone |
| Version: 1.6.1 |
| Command: rm -rf scone.buildbin-libdir && mkdir scone.buildbin-libdir && /Users/biocbuild/BBS/utils/build-universal.sh scone_1.6.1.tar.gz /Library/Frameworks/R.framework/Versions/Current/Resources/bin/R scone.buildbin-libdir |
| StartedAt: 2019-04-16 04:43:10 -0400 (Tue, 16 Apr 2019) |
| EndedAt: 2019-04-16 04:43:47 -0400 (Tue, 16 Apr 2019) |
| EllapsedTime: 37.2 seconds |
| RetCode: 0 |
| Status: OK |
| PackageFile: scone_1.6.1.tgz |
| PackageFileSize: 1.192 MiB |
############################################################################## ############################################################################## ### ### Running command: ### ### rm -rf scone.buildbin-libdir && mkdir scone.buildbin-libdir && /Users/biocbuild/BBS/utils/build-universal.sh scone_1.6.1.tar.gz /Library/Frameworks/R.framework/Versions/Current/Resources/bin/R scone.buildbin-libdir ### ############################################################################## ############################################################################## >>>>>>> >>>>>>> INSTALLATION WITH 'R CMD INSTALL --preclean --no-multiarch --library=scone.buildbin-libdir scone_1.6.1.tar.gz' >>>>>>> * installing *source* package ‘scone’ ... ** R ** data ** inst ** byte-compile and prepare package for lazy loading ** help *** installing help indices ** building package indices ** installing vignettes ** testing if installed package can be loaded * DONE (scone)