| Back to Multiple platform build/check report for BioC 3.8 |
|
This page was generated on 2019-04-13 11:27:24 -0400 (Sat, 13 Apr 2019).
| Package 1393/1649 | Hostname | OS / Arch | INSTALL | BUILD | CHECK | BUILD BIN | ||||||
| scDD 1.6.1 Keegan Korthauer
| malbec1 | Linux (Ubuntu 16.04.6 LTS) / x86_64 | OK | OK | OK | |||||||
| tokay1 | Windows Server 2012 R2 Standard / x64 | OK | OK | OK | [ OK ] | |||||||
| merida1 | OS X 10.11.6 El Capitan / x86_64 | OK | OK | OK | OK |
| Package: scDD |
| Version: 1.6.1 |
| Command: rm -rf scDD.buildbin-libdir && mkdir scDD.buildbin-libdir && C:\Users\biocbuild\bbs-3.8-bioc\R\bin\R.exe CMD INSTALL --merge-multiarch --build --library=scDD.buildbin-libdir scDD_1.6.1.tar.gz |
| StartedAt: 2019-04-13 07:55:18 -0400 (Sat, 13 Apr 2019) |
| EndedAt: 2019-04-13 07:55:47 -0400 (Sat, 13 Apr 2019) |
| EllapsedTime: 29.4 seconds |
| RetCode: 0 |
| Status: OK |
| PackageFile: scDD_1.6.1.zip |
| PackageFileSize: 1.055 MiB |
##############################################################################
##############################################################################
###
### Running command:
###
### rm -rf scDD.buildbin-libdir && mkdir scDD.buildbin-libdir && C:\Users\biocbuild\bbs-3.8-bioc\R\bin\R.exe CMD INSTALL --merge-multiarch --build --library=scDD.buildbin-libdir scDD_1.6.1.tar.gz
###
##############################################################################
##############################################################################
install for i386
* installing *source* package 'scDD' ...
** R
** data
** inst
** byte-compile and prepare package for lazy loading
** help
*** installing help indices
converting help for package 'scDD'
finding HTML links ... done
calcMV html
calcRP html
classifyDD html
feDP html
findFC html
findIndex html
findOutliers html
getPosteriorParams html
jointPosterior html
lu html
luOutlier html
mclustRestricted html
permMclust html
permMclustCov html
permMclustGene html
permZero html
preprocess html
results html
scDD html
scDatEx html
scDatExList html
scDatExSim html
sideHist html
sideViolin html
simuDB html
simuDE html
simuDM html
simuDP html
simulateSet html
singleCellSimu html
testKS html
testZeroes html
validation html
** building package indices
** installing vignettes
** testing if installed package can be loaded
In R CMD INSTALL
install for x64
* installing *source* package 'scDD' ...
** testing if installed package can be loaded
* MD5 sums
packaged installation of 'scDD' as scDD_1.6.1.zip
* DONE (scDD)
In R CMD INSTALL
In R CMD INSTALL