| Back to Multiple platform build/check report for BioC 3.8 | 
 | 
This page was generated on 2019-04-16 12:00:22 -0400 (Tue, 16 Apr 2019).
| Package 1381/1649 | Hostname | OS / Arch | INSTALL | BUILD | CHECK | BUILD BIN | ||||||
| sampleClassifier 1.6.1 Khadija El Amrani 
 | malbec1 | Linux (Ubuntu 16.04.6 LTS) / x86_64 | OK | OK | OK |  | ||||||
| merida1 | OS X 10.11.6 El Capitan / x86_64 | OK | [ OK ] | OK | OK |  | 
| Package: sampleClassifier | 
| Version: 1.6.1 | 
| Command: /Library/Frameworks/R.framework/Versions/Current/Resources/bin/R CMD build --keep-empty-dirs --no-resave-data sampleClassifier | 
| StartedAt: 2019-04-15 21:15:46 -0400 (Mon, 15 Apr 2019) | 
| EndedAt: 2019-04-15 21:19:09 -0400 (Mon, 15 Apr 2019) | 
| EllapsedTime: 203.3 seconds | 
| RetCode: 0 | 
| Status: OK | 
| PackageFile: sampleClassifier_1.6.1.tar.gz | 
| PackageFileSize: 226.8 KiB | 
############################################################################## ############################################################################## ### ### Running command: ### ### /Library/Frameworks/R.framework/Versions/Current/Resources/bin/R CMD build --keep-empty-dirs --no-resave-data sampleClassifier ### ############################################################################## ############################################################################## * checking for file ‘sampleClassifier/DESCRIPTION’ ... OK * preparing ‘sampleClassifier’: * checking DESCRIPTION meta-information ... OK * installing the package to build vignettes * creating vignettes ... OK * checking for LF line-endings in source and make files and shell scripts * checking for empty or unneeded directories * building ‘sampleClassifier_1.6.1.tar.gz’