| Back to Multiple platform build/check report for BioC 3.8 |
|
This page was generated on 2019-04-13 11:19:36 -0400 (Sat, 13 Apr 2019).
| Package 1377/1649 | Hostname | OS / Arch | INSTALL | BUILD | CHECK | BUILD BIN | ||||||
| safe 3.22.0 William T. Barry
| malbec1 | Linux (Ubuntu 16.04.6 LTS) / x86_64 | OK | OK | OK | |||||||
| tokay1 | Windows Server 2012 R2 Standard / x64 | OK | OK | OK | [ OK ] | |||||||
| merida1 | OS X 10.11.6 El Capitan / x86_64 | OK | OK | OK | OK |
| Package: safe |
| Version: 3.22.0 |
| Command: rm -rf safe.buildbin-libdir && mkdir safe.buildbin-libdir && C:\Users\biocbuild\bbs-3.8-bioc\R\bin\R.exe CMD INSTALL --merge-multiarch --build --library=safe.buildbin-libdir safe_3.22.0.tar.gz |
| StartedAt: 2019-04-13 07:54:46 -0400 (Sat, 13 Apr 2019) |
| EndedAt: 2019-04-13 07:54:59 -0400 (Sat, 13 Apr 2019) |
| EllapsedTime: 12.6 seconds |
| RetCode: 0 |
| Status: OK |
| PackageFile: safe_3.22.0.zip |
| PackageFileSize: 682.4 KiB |
##############################################################################
##############################################################################
###
### Running command:
###
### rm -rf safe.buildbin-libdir && mkdir safe.buildbin-libdir && C:\Users\biocbuild\bbs-3.8-bioc\R\bin\R.exe CMD INSTALL --merge-multiarch --build --library=safe.buildbin-libdir safe_3.22.0.tar.gz
###
##############################################################################
##############################################################################
install for i386
* installing *source* package 'safe' ...
** R
** data
** inst
** byte-compile and prepare package for lazy loading
** help
*** installing help indices
converting help for package 'safe'
finding HTML links ... done
SAFE-class html
gene.results html
getCmatrix html
p53.stat html
safe-internal html
safe-package html
safe html
safe.toptable html
safedag html
safeplot html
** building package indices
** installing vignettes
** testing if installed package can be loaded
In R CMD INSTALL
install for x64
* installing *source* package 'safe' ...
** testing if installed package can be loaded
* MD5 sums
packaged installation of 'safe' as safe_3.22.0.zip
* DONE (safe)
In R CMD INSTALL
In R CMD INSTALL