| Back to Multiple platform build/check report for BioC 3.8 | 
  | 
This page was generated on 2019-04-13 11:21:40 -0400 (Sat, 13 Apr 2019).
| Package 1248/1649 | Hostname | OS / Arch | INSTALL | BUILD | CHECK | BUILD BIN | ||||||
| randPack 1.28.0 Robert Gentleman 
  | malbec1 | Linux (Ubuntu 16.04.6 LTS) / x86_64 | OK | OK | OK | |||||||
| tokay1 | Windows Server 2012 R2 Standard / x64 | OK | OK | OK | [ OK ] | |||||||
| merida1 | OS X 10.11.6 El Capitan / x86_64 | OK | OK | OK | OK | 
| Package: randPack | 
| Version: 1.28.0 | 
| Command: rm -rf randPack.buildbin-libdir && mkdir randPack.buildbin-libdir && C:\Users\biocbuild\bbs-3.8-bioc\R\bin\R.exe CMD INSTALL --merge-multiarch --build --library=randPack.buildbin-libdir randPack_1.28.0.tar.gz | 
| StartedAt: 2019-04-13 07:49:28 -0400 (Sat, 13 Apr 2019) | 
| EndedAt: 2019-04-13 07:49:34 -0400 (Sat, 13 Apr 2019) | 
| EllapsedTime: 6.0 seconds | 
| RetCode: 0 | 
| Status: OK | 
| PackageFile: randPack_1.28.0.zip | 
| PackageFileSize: 281.9 KiB | 
##############################################################################
##############################################################################
###
### Running command:
###
###   rm -rf randPack.buildbin-libdir && mkdir randPack.buildbin-libdir && C:\Users\biocbuild\bbs-3.8-bioc\R\bin\R.exe CMD INSTALL --merge-multiarch --build --library=randPack.buildbin-libdir randPack_1.28.0.tar.gz
###
##############################################################################
##############################################################################
install for i386
* installing *source* package 'randPack' ...
** R
** data
** inst
** byte-compile and prepare package for lazy loading
** help
*** installing help indices
  converting help for package 'randPack'
    finding HTML links ... done
    CT1                                     html  
    ClinicalExperiment-class                html  
    ClinicalTrial-class                     html  
    PatientData-class                       html  
    PatientID-class                         html  
    Randomizer-class                        html  
    SampleData                              html  
    createTrial                             html  
    getEnrolleeInfo                         html  
    getTreatment                            html  
    makeRandomizer                          html  
    minimizePocSim                          html  
    simPats                                 html  
    treatmentNames                          html  
** building package indices
** installing vignettes
** testing if installed package can be loaded
In R CMD INSTALL
install for x64
* installing *source* package 'randPack' ...
** testing if installed package can be loaded
* MD5 sums
packaged installation of 'randPack' as randPack_1.28.0.zip
* DONE (randPack)
In R CMD INSTALL
In R CMD INSTALL