| Back to Multiple platform build/check report for BioC 3.8 |
|
This page was generated on 2019-04-16 11:57:10 -0400 (Tue, 16 Apr 2019).
| Package 1369/1649 | Hostname | OS / Arch | INSTALL | BUILD | CHECK | BUILD BIN | ||||||
| rTRMui 1.20.0 Diego Diez
| malbec1 | Linux (Ubuntu 16.04.6 LTS) / x86_64 | OK | OK | OK | |||||||
| merida1 | OS X 10.11.6 El Capitan / x86_64 | OK | OK | OK | [ OK ] |
| Package: rTRMui |
| Version: 1.20.0 |
| Command: rm -rf rTRMui.buildbin-libdir && mkdir rTRMui.buildbin-libdir && /Users/biocbuild/BBS/utils/build-universal.sh rTRMui_1.20.0.tar.gz /Library/Frameworks/R.framework/Versions/Current/Resources/bin/R rTRMui.buildbin-libdir |
| StartedAt: 2019-04-16 04:41:44 -0400 (Tue, 16 Apr 2019) |
| EndedAt: 2019-04-16 04:42:16 -0400 (Tue, 16 Apr 2019) |
| EllapsedTime: 31.8 seconds |
| RetCode: 0 |
| Status: OK |
| PackageFile: rTRMui_1.20.0.tgz |
| PackageFileSize: 788.3 KiB |
##############################################################################
##############################################################################
###
### Running command:
###
### rm -rf rTRMui.buildbin-libdir && mkdir rTRMui.buildbin-libdir && /Users/biocbuild/BBS/utils/build-universal.sh rTRMui_1.20.0.tar.gz /Library/Frameworks/R.framework/Versions/Current/Resources/bin/R rTRMui.buildbin-libdir
###
##############################################################################
##############################################################################
>>>>>>>
>>>>>>> INSTALLATION WITH 'R CMD INSTALL --preclean --no-multiarch --library=rTRMui.buildbin-libdir rTRMui_1.20.0.tar.gz'
>>>>>>>
* installing *source* package ‘rTRMui’ ...
** R
** inst
** byte-compile and prepare package for lazy loading
See system.file("LICENSE", package="MotifDb") for use restrictions.
** help
*** installing help indices
** building package indices
** installing vignettes
** testing if installed package can be loaded
See system.file("LICENSE", package="MotifDb") for use restrictions.
* DONE (rTRMui)