| Back to Multiple platform build/check report for BioC 3.8 |
|
This page was generated on 2019-04-13 11:22:58 -0400 (Sat, 13 Apr 2019).
| Package 1368/1649 | Hostname | OS / Arch | INSTALL | BUILD | CHECK | BUILD BIN | ||||||
| rTRM 1.20.0 Diego Diez
| malbec1 | Linux (Ubuntu 16.04.6 LTS) / x86_64 | OK | OK | OK | |||||||
| tokay1 | Windows Server 2012 R2 Standard / x64 | OK | [ OK ] | OK | OK | |||||||
| merida1 | OS X 10.11.6 El Capitan / x86_64 | OK | OK | OK | OK |
| Package: rTRM |
| Version: 1.20.0 |
| Command: chmod a+r rTRM -R && C:\Users\biocbuild\bbs-3.8-bioc\R\bin\R.exe CMD build --keep-empty-dirs --no-resave-data rTRM |
| StartedAt: 2019-04-12 21:46:27 -0400 (Fri, 12 Apr 2019) |
| EndedAt: 2019-04-12 21:49:05 -0400 (Fri, 12 Apr 2019) |
| EllapsedTime: 158.2 seconds |
| RetCode: 0 |
| Status: OK |
| PackageFile: rTRM_1.20.0.tar.gz |
| PackageFileSize: 3.174 MiB |
##############################################################################
##############################################################################
###
### Running command:
###
### chmod a+r rTRM -R && C:\Users\biocbuild\bbs-3.8-bioc\R\bin\R.exe CMD build --keep-empty-dirs --no-resave-data rTRM
###
##############################################################################
##############################################################################
* checking for file 'rTRM/DESCRIPTION' ... OK
* preparing 'rTRM':
* checking DESCRIPTION meta-information ... OK
* installing the package to process help pages
* building the PDF package manual
Hmm ... looks like a package
Converting Rd files to LaTeX Loading required package: igraph
Attaching package: 'igraph'
The following objects are masked from 'package:stats':
decompose, spectrum
The following object is masked from 'package:base':
union
...
Creating pdf output from LaTeX ...
Saving output to 'C:/Users/biocbuild/bbs-3.8-bioc/tmpdir/RtmpG8gDCE/Rbuild27d85629134a/rTRM/build/rTRM.pdf' ...
Done
* creating vignettes ... OK
* checking for LF line-endings in source and make files and shell scripts
* checking for empty or unneeded directories
* looking to see if a 'data/datalist' file should be added
* building 'rTRM_1.20.0.tar.gz'