| Back to Multiple platform build/check report for BioC 3.8 | 
 | 
This page was generated on 2019-04-16 11:56:36 -0400 (Tue, 16 Apr 2019).
| Package 1355/1649 | Hostname | OS / Arch | INSTALL | BUILD | CHECK | BUILD BIN | ||||||
| rSFFreader 0.30.0 Matt Settles 
 | malbec1 | Linux (Ubuntu 16.04.6 LTS) / x86_64 | OK | OK | WARNINGS |  | ||||||
| merida1 | OS X 10.11.6 El Capitan / x86_64 | OK | OK | WARNINGS | [ OK ] |  | 
| Package: rSFFreader | 
| Version: 0.30.0 | 
| Command: rm -rf rSFFreader.buildbin-libdir && mkdir rSFFreader.buildbin-libdir && /Users/biocbuild/BBS/utils/build-universal.sh rSFFreader_0.30.0.tar.gz /Library/Frameworks/R.framework/Versions/Current/Resources/bin/R rSFFreader.buildbin-libdir | 
| StartedAt: 2019-04-16 04:41:04 -0400 (Tue, 16 Apr 2019) | 
| EndedAt: 2019-04-16 04:41:35 -0400 (Tue, 16 Apr 2019) | 
| EllapsedTime: 30.4 seconds | 
| RetCode: 0 | 
| Status: OK | 
| PackageFile: rSFFreader_0.30.0.tgz | 
| PackageFileSize: 4.652 MiB | 
############################################################################## ############################################################################## ### ### Running command: ### ### rm -rf rSFFreader.buildbin-libdir && mkdir rSFFreader.buildbin-libdir && /Users/biocbuild/BBS/utils/build-universal.sh rSFFreader_0.30.0.tar.gz /Library/Frameworks/R.framework/Versions/Current/Resources/bin/R rSFFreader.buildbin-libdir ### ############################################################################## ############################################################################## >>>>>>> >>>>>>> INSTALLATION WITH 'R CMD INSTALL --preclean --no-multiarch --library=rSFFreader.buildbin-libdir rSFFreader_0.30.0.tar.gz' >>>>>>> * installing *source* package ‘rSFFreader’ ... ** libs clang -I"/Library/Frameworks/R.framework/Resources/include" -DNDEBUG -I"/Library/Frameworks/R.framework/Versions/3.5/Resources/library/S4Vectors/include" -I"/Library/Frameworks/R.framework/Versions/3.5/Resources/library/IRanges/include" -I"/Library/Frameworks/R.framework/Versions/3.5/Resources/library/XVector/include" -I"/Library/Frameworks/R.framework/Versions/3.5/Resources/library/Biostrings/include" -I/usr/local/include -fPIC -Wall -g -O2 -c Biostrings_stubs.c -o Biostrings_stubs.o clang -I"/Library/Frameworks/R.framework/Resources/include" -DNDEBUG -I"/Library/Frameworks/R.framework/Versions/3.5/Resources/library/S4Vectors/include" -I"/Library/Frameworks/R.framework/Versions/3.5/Resources/library/IRanges/include" -I"/Library/Frameworks/R.framework/Versions/3.5/Resources/library/XVector/include" -I"/Library/Frameworks/R.framework/Versions/3.5/Resources/library/Biostrings/include" -I/usr/local/include -fPIC -Wall -g -O2 -c IRanges_stubs.c -o IRanges_stubs.o clang -I"/Library/Frameworks/R.framework/Resources/include" -DNDEBUG -I"/Library/Frameworks/R.framework/Versions/3.5/Resources/library/S4Vectors/include" -I"/Library/Frameworks/R.framework/Versions/3.5/Resources/library/IRanges/include" -I"/Library/Frameworks/R.framework/Versions/3.5/Resources/library/XVector/include" -I"/Library/Frameworks/R.framework/Versions/3.5/Resources/library/Biostrings/include" -I/usr/local/include -fPIC -Wall -g -O2 -c R_init_rSFFreader.c -o R_init_rSFFreader.o clang -I"/Library/Frameworks/R.framework/Resources/include" -DNDEBUG -I"/Library/Frameworks/R.framework/Versions/3.5/Resources/library/S4Vectors/include" -I"/Library/Frameworks/R.framework/Versions/3.5/Resources/library/IRanges/include" -I"/Library/Frameworks/R.framework/Versions/3.5/Resources/library/XVector/include" -I"/Library/Frameworks/R.framework/Versions/3.5/Resources/library/Biostrings/include" -I/usr/local/include -fPIC -Wall -g -O2 -c S4Vectors_stubs.c -o S4Vectors_stubs.o clang -I"/Library/Frameworks/R.framework/Resources/include" -DNDEBUG -I"/Library/Frameworks/R.framework/Versions/3.5/Resources/library/S4Vectors/include" -I"/Library/Frameworks/R.framework/Versions/3.5/Resources/library/IRanges/include" -I"/Library/Frameworks/R.framework/Versions/3.5/Resources/library/XVector/include" -I"/Library/Frameworks/R.framework/Versions/3.5/Resources/library/Biostrings/include" -I/usr/local/include -fPIC -Wall -g -O2 -c SFF-io.c -o SFF-io.o clang -I"/Library/Frameworks/R.framework/Resources/include" -DNDEBUG -I"/Library/Frameworks/R.framework/Versions/3.5/Resources/library/S4Vectors/include" -I"/Library/Frameworks/R.framework/Versions/3.5/Resources/library/IRanges/include" -I"/Library/Frameworks/R.framework/Versions/3.5/Resources/library/XVector/include" -I"/Library/Frameworks/R.framework/Versions/3.5/Resources/library/Biostrings/include" -I/usr/local/include -fPIC -Wall -g -O2 -c XVector_stubs.c -o XVector_stubs.o clang -dynamiclib -Wl,-headerpad_max_install_names -undefined dynamic_lookup -single_module -multiply_defined suppress -L/Library/Frameworks/R.framework/Resources/lib -L/usr/local/lib -o rSFFreader.so Biostrings_stubs.o IRanges_stubs.o R_init_rSFFreader.o S4Vectors_stubs.o SFF-io.o XVector_stubs.o -F/Library/Frameworks/R.framework/.. -framework R -Wl,-framework -Wl,CoreFoundation installing to /Users/biocbuild/bbs-3.8-bioc/meat/rSFFreader.buildbin-libdir/rSFFreader/libs ** R ** inst ** byte-compile and prepare package for lazy loading ** help *** installing help indices ** building package indices ** installing vignettes ** testing if installed package can be loaded * DONE (rSFFreader) >>>>>>> >>>>>>> FIXING LINKS FOR rSFFreader.buildbin-libdir/rSFFreader/libs//rSFFreader.so >>>>>>> install_name_tool -change "/usr/local/lib/libgcc_s.1.dylib" "/Library/Frameworks/R.framework/Versions/3.5/Resources/lib/libgcc_s.1.dylib" "rSFFreader.buildbin-libdir/rSFFreader/libs//rSFFreader.so" install_name_tool -change "/usr/local/lib/libgfortran.3.dylib" "/Library/Frameworks/R.framework/Versions/3.5/Resources/lib/libgfortran.3.dylib" "rSFFreader.buildbin-libdir/rSFFreader/libs//rSFFreader.so" install_name_tool -change "/usr/local/lib/libreadline.5.2.dylib" "/Library/Frameworks/R.framework/Versions/3.5/Resources/lib/libreadline.5.2.dylib" "rSFFreader.buildbin-libdir/rSFFreader/libs//rSFFreader.so" install_name_tool -change "/usr/local/lib/libreadline.dylib" "/Library/Frameworks/R.framework/Versions/3.5/Resources/lib/libreadline.dylib" "rSFFreader.buildbin-libdir/rSFFreader/libs//rSFFreader.so" install_name_tool -change "/usr/local/lib/libquadmath.0.dylib" "/Library/Frameworks/R.framework/Versions/3.5/Resources/lib/libquadmath.0.dylib" "rSFFreader.buildbin-libdir/rSFFreader/libs//rSFFreader.so"